BEGIN:VCALENDAR
VERSION:2.0
PRODID:-//The Ark - ECPv6.15.20//NONSGML v1.0//EN
CALSCALE:GREGORIAN
METHOD:PUBLISH
X-ORIGINAL-URL:https://theark.org
X-WR-CALDESC:Events for The Ark
REFRESH-INTERVAL;VALUE=DURATION:PT1H
X-Robots-Tag:noindex
X-PUBLISHED-TTL:PT1H
BEGIN:VTIMEZONE
TZID:America/Detroit
BEGIN:DAYLIGHT
TZOFFSETFROM:-0500
TZOFFSETTO:-0400
TZNAME:EDT
DTSTART:20230312T070000
END:DAYLIGHT
BEGIN:STANDARD
TZOFFSETFROM:-0400
TZOFFSETTO:-0500
TZNAME:EST
DTSTART:20231105T060000
END:STANDARD
BEGIN:DAYLIGHT
TZOFFSETFROM:-0500
TZOFFSETTO:-0400
TZNAME:EDT
DTSTART:20240310T070000
END:DAYLIGHT
BEGIN:STANDARD
TZOFFSETFROM:-0400
TZOFFSETTO:-0500
TZNAME:EST
DTSTART:20241103T060000
END:STANDARD
BEGIN:DAYLIGHT
TZOFFSETFROM:-0500
TZOFFSETTO:-0400
TZNAME:EDT
DTSTART:20250309T070000
END:DAYLIGHT
BEGIN:STANDARD
TZOFFSETFROM:-0400
TZOFFSETTO:-0500
TZNAME:EST
DTSTART:20251102T060000
END:STANDARD
END:VTIMEZONE
BEGIN:VEVENT
DTSTART;TZID=America/Detroit:20240402T193000
DTEND;TZID=America/Detroit:20240402T230000
DTSTAMP:20260425T092239
CREATED:20240125T150004Z
LAST-MODIFIED:20240228T205413Z
UID:10000468-1712086200-1712098800@theark.org
SUMMARY:Peter Madcat Ruth's 75th Birthday Celebration Concert
DESCRIPTION:Madcat’s music has been evolving for over 60 years. It started in the Chicago area in the early 1960s\, with Madcat playing folk/blues on guitar and harmonica. By the late 1960s he had immersed himself in the Chicago Blues and was studying harmonica with Big Walter Horton. In the early 1970s\, Madcat moved to Ann Arbor\, where he was a key presence in two of Ann Arbor’s finest progressive rock bands: New Heavenly Blue and Sky King. By the mid 1970s Madcat was touring the world with jazz pianist Dave Brubeck. In the 1980s\, Madcat went solo infusing the folk/blues tradition with elements of rock and jazz. In 1990\, Madcat teamed up with guitarist/singer Shari Kane to form the duo Madcat & Kane. For twenty-four years\, they toured nationally and internationally. \nTonight’s celebration features Peter Madcat Ruth’s C.A.R.Ma. Quartet with John Churchville on tabla\, Brennan Andes on bass\, and guitarist Dan Ripke. Special guests include Rachael Davis\, Seth Bernard\, and Nashville based harmonica virtuoso Buddy Greene. \nNote early start time!
URL:https://theark.org/event/peter-madcat-ruths-75th-birthday-celebration-concert-240402/
LOCATION:The Ark\, 316 S. Main\, Ann Arbor\, MI\, 48104\, United States
ATTACH;FMTTYPE=image/jpeg:https://theark.org/wp-content/uploads/2022/08/Madcat-CARma-Quartet.jpg
END:VEVENT
END:VCALENDAR