BEGIN:VCALENDAR
VERSION:2.0
PRODID:-//The Ark - ECPv6.15.20//NONSGML v1.0//EN
CALSCALE:GREGORIAN
METHOD:PUBLISH
X-WR-CALNAME:The Ark
X-ORIGINAL-URL:https://theark.org
X-WR-CALDESC:Events for The Ark
REFRESH-INTERVAL;VALUE=DURATION:PT1H
X-Robots-Tag:noindex
X-PUBLISHED-TTL:PT1H
BEGIN:VTIMEZONE
TZID:America/Detroit
BEGIN:DAYLIGHT
TZOFFSETFROM:-0500
TZOFFSETTO:-0400
TZNAME:EDT
DTSTART:20230312T070000
END:DAYLIGHT
BEGIN:STANDARD
TZOFFSETFROM:-0400
TZOFFSETTO:-0500
TZNAME:EST
DTSTART:20231105T060000
END:STANDARD
BEGIN:DAYLIGHT
TZOFFSETFROM:-0500
TZOFFSETTO:-0400
TZNAME:EDT
DTSTART:20240310T070000
END:DAYLIGHT
BEGIN:STANDARD
TZOFFSETFROM:-0400
TZOFFSETTO:-0500
TZNAME:EST
DTSTART:20241103T060000
END:STANDARD
BEGIN:DAYLIGHT
TZOFFSETFROM:-0500
TZOFFSETTO:-0400
TZNAME:EDT
DTSTART:20250309T070000
END:DAYLIGHT
BEGIN:STANDARD
TZOFFSETFROM:-0400
TZOFFSETTO:-0500
TZNAME:EST
DTSTART:20251102T060000
END:STANDARD
END:VTIMEZONE
BEGIN:VEVENT
DTSTART;TZID=America/Detroit:20240324T190000
DTEND;TZID=America/Detroit:20240324T230000
DTSTAMP:20260425T234559
CREATED:20231014T131221Z
LAST-MODIFIED:20240202T155821Z
UID:10000309-1711306800-1711321200@theark.org
SUMMARY:Colin Hay
DESCRIPTION:Singer-songwriter Colin Hay\, most beloved for his intimate\, confessional live shows is most widely known for being an influential and celebrated frontman. The range of artists who have chosen to cite him as a muse or who have found themselves on stage with him in the past year spans the genre landscape from heavy metal\, to Americana\, to Cuban rhythms and beyond. His inclusion as a playlist favorite from the likes of Metallica to The Lumineers reflects his continuing relevance and broad appeal.
URL:https://theark.org/event/colin-hay-240324/
LOCATION:Royal Oak Music Theatre\, 318 W 4th St\, Royal Oak\, MI\, 48067\, United States
CATEGORIES:Special Event
ATTACH;FMTTYPE=image/jpeg:https://theark.org/wp-content/uploads/2023/10/0324-Detroit-ColinHay-1920x1080-1.jpg
END:VEVENT
BEGIN:VEVENT
DTSTART;TZID=America/Detroit:20240324T193000
DTEND;TZID=America/Detroit:20240324T230000
DTSTAMP:20260425T234559
CREATED:20240116T150047Z
LAST-MODIFIED:20240314T131837Z
UID:10000444-1711308600-1711321200@theark.org
SUMMARY:May Erlewine with Packy Lundholm
DESCRIPTION:Songwriter May Erlewine travels the Midwest in the spring\, offering an intimate evening of music and togetherness. May’s songs cut right to the heart of things\, creating a space to feel and to enjoy a night of music and community. Joining Erlewine on guitar\, the incredibly talented\, Packy Lundholm. This tender duo has traveled the world together digging deep into each performance to bring you a very uniquely heart-full experience. You can listen to their recordings on the newest EP\, Knox Avenue Recordings\, streaming everywhere. \nIndie folk duo Frances Luke Accord opens.
URL:https://theark.org/event/may-erlewine-with-packy-lundholm-240324/
LOCATION:The Ark\, 316 S. Main\, Ann Arbor\, MI\, 48104\, United States
ATTACH;FMTTYPE=image/jpeg:https://theark.org/wp-content/uploads/2024/01/May-Erlewine-Packy-Lundholm-e1704471724537.jpg
END:VEVENT
END:VCALENDAR