BEGIN:VCALENDAR
VERSION:2.0
PRODID:-//The Ark - ECPv6.15.20//NONSGML v1.0//EN
CALSCALE:GREGORIAN
METHOD:PUBLISH
X-WR-CALNAME:The Ark
X-ORIGINAL-URL:https://theark.org
X-WR-CALDESC:Events for The Ark
REFRESH-INTERVAL;VALUE=DURATION:PT1H
X-Robots-Tag:noindex
X-PUBLISHED-TTL:PT1H
BEGIN:VTIMEZONE
TZID:America/Detroit
BEGIN:DAYLIGHT
TZOFFSETFROM:-0500
TZOFFSETTO:-0400
TZNAME:EDT
DTSTART:20230312T070000
END:DAYLIGHT
BEGIN:STANDARD
TZOFFSETFROM:-0400
TZOFFSETTO:-0500
TZNAME:EST
DTSTART:20231105T060000
END:STANDARD
BEGIN:DAYLIGHT
TZOFFSETFROM:-0500
TZOFFSETTO:-0400
TZNAME:EDT
DTSTART:20240310T070000
END:DAYLIGHT
BEGIN:STANDARD
TZOFFSETFROM:-0400
TZOFFSETTO:-0500
TZNAME:EST
DTSTART:20241103T060000
END:STANDARD
BEGIN:DAYLIGHT
TZOFFSETFROM:-0500
TZOFFSETTO:-0400
TZNAME:EDT
DTSTART:20250309T070000
END:DAYLIGHT
BEGIN:STANDARD
TZOFFSETFROM:-0400
TZOFFSETTO:-0500
TZNAME:EST
DTSTART:20251102T060000
END:STANDARD
END:VTIMEZONE
BEGIN:VEVENT
DTSTART;TZID=America/Detroit:20240322T200000
DTEND;TZID=America/Detroit:20240322T230000
DTSTAMP:20260423T020834
CREATED:20231207T150007Z
LAST-MODIFIED:20240320T143826Z
UID:10000426-1711137600-1711148400@theark.org
SUMMARY:Alicia Witt
DESCRIPTION:“A gifted musician”\n-NPR \n“Her voice is gorgeous – soft but full and round… on the edge of smiles and tears…”\n-BroadwayWorld.com \n“…serving sharply personal\, boldly melodic pop originals in the Carole King/Billy Joel vein…”\n-Philadelphia Inquirer \nActor and Billboard Top 30 charting singer-songwriter Alicia Witt has played her piano-driven pop-rock music all over the world\, including at the renowned Grand Ole Opry. She appeared in 2023 on Fox’s The Masked Singer\, winning her first episode as Dandelion. Witt’s newest EP\, Witness\, came out in 2023; she released The Conduit in Fall 2021\, which she co-produced\, including single Chasing Shadows which spent 5 weeks on the Billboard Top 30 AC Radio chart. Previous releases include 15000 Days\, produced by Grammy award-winning producer Jacquire King (Kings of Leon\, Norah Jones \, Dawes) and the Ben Folds produced Revisionary History\, hailed by Nashville Scene as “a piano-pop gem that sounds by turns like “Grey Seal”-era Elton John ; an alt-universe Fiona Apple and a film-noir chanteuse notching her nights in cigarette burns on the fallboard.” Also known for her decades-long career as a prolific TV/film actress (beginning with David Lynch’s ‘Dune’ at the age of 7)\, Alicia’s music has been featured in numerous movies. Alicia was most recently seen in Netflix’s hit I Care A Lot\, starring Rosamund Pike\, and leading the cast of Modern Persuasion. She will next be seen in movie theaters worldwide in the feature Longlegs opposite Nicolas Cage\, due out in 2024. Other credits include Orange Is The New Black\, The Walking Dead\, ABC’s Nashville\, Two Weeks Notice\, Mr Holland’s Opus\, The Sopranos\, Cybill\, and Urban Legend. \nVIP tickets include a general admission ticket to the performance and a pre-show meet & greet. Doors open for VIP ticket holders at 6:15.
URL:https://theark.org/event/alicia-witt-240322/
LOCATION:The Ark\, 316 S. Main\, Ann Arbor\, MI\, 48104\, United States
ATTACH;FMTTYPE=image/jpeg:https://theark.org/wp-content/uploads/2023/12/alicia_witt_-_jeff_fasano-scaled.jpg
END:VEVENT
END:VCALENDAR