BEGIN:VCALENDAR
VERSION:2.0
PRODID:-//The Ark - ECPv6.15.20//NONSGML v1.0//EN
CALSCALE:GREGORIAN
METHOD:PUBLISH
X-ORIGINAL-URL:https://theark.org
X-WR-CALDESC:Events for The Ark
REFRESH-INTERVAL;VALUE=DURATION:PT1H
X-Robots-Tag:noindex
X-PUBLISHED-TTL:PT1H
BEGIN:VTIMEZONE
TZID:America/Detroit
BEGIN:DAYLIGHT
TZOFFSETFROM:-0500
TZOFFSETTO:-0400
TZNAME:EDT
DTSTART:20230312T070000
END:DAYLIGHT
BEGIN:STANDARD
TZOFFSETFROM:-0400
TZOFFSETTO:-0500
TZNAME:EST
DTSTART:20231105T060000
END:STANDARD
BEGIN:DAYLIGHT
TZOFFSETFROM:-0500
TZOFFSETTO:-0400
TZNAME:EDT
DTSTART:20240310T070000
END:DAYLIGHT
BEGIN:STANDARD
TZOFFSETFROM:-0400
TZOFFSETTO:-0500
TZNAME:EST
DTSTART:20241103T060000
END:STANDARD
BEGIN:DAYLIGHT
TZOFFSETFROM:-0500
TZOFFSETTO:-0400
TZNAME:EDT
DTSTART:20250309T070000
END:DAYLIGHT
BEGIN:STANDARD
TZOFFSETFROM:-0400
TZOFFSETTO:-0500
TZNAME:EST
DTSTART:20251102T060000
END:STANDARD
END:VTIMEZONE
BEGIN:VEVENT
DTSTART;TZID=America/Detroit:20240321T200000
DTEND;TZID=America/Detroit:20240321T230000
DTSTAMP:20260423T113228
CREATED:20231130T150005Z
LAST-MODIFIED:20240202T155654Z
UID:10000415-1711051200-1711062000@theark.org
SUMMARY:Missy Raines & Allegheny
DESCRIPTION:Grammy-nominated Missy Raines was recently named International Bluegrass Music Association Bass Player of the Year\, for the tenth time\, more than any other bass player in the history of the organization. She is a bass players’ bass player\, a singer\, songwriter\, teacher\, sideman\, and bandleader. Missy has also received multiple awards from the IBMA for Recorded Event of the Year and Song of the Year. In January of 2020\, Missy Raines & Allegheny debuted on the Grand Ole Opry. The development of this exciting new band was held up by the COVID-19 pandemic\, and we’re happy to have them now for their Ark debut. The band is named for the Allegheny highlands of West Virginia where Raines grew up. This band is a significant nod\, and return\, to Missy’s deep traditional bluegrass roots. Their music is traditional and hard-driving at its core but energized with Missy’s well-known penchant for originality and innovation. Missy Raines & Allegheny features some of the brightest young stars in bluegrass today with Tristan Scroggins on mandolin\, Ellie Hakanson on fiddle\, Ben Garnett on guitar\, and Eli Gilbert on banjo. They come to The Ark with their new album\, “Highlander\,” produced by Alison Brown.
URL:https://theark.org/event/missy-raines-allegheny-240221/
LOCATION:The Ark\, 316 S. Main\, Ann Arbor\, MI\, 48104\, United States
ATTACH;FMTTYPE=image/jpeg:https://theark.org/wp-content/uploads/2023/11/MissyRaines_Allegheny.jpeg
END:VEVENT
END:VCALENDAR