BEGIN:VCALENDAR
VERSION:2.0
PRODID:-//The Ark - ECPv6.15.20//NONSGML v1.0//EN
CALSCALE:GREGORIAN
METHOD:PUBLISH
X-ORIGINAL-URL:https://theark.org
X-WR-CALDESC:Events for The Ark
REFRESH-INTERVAL;VALUE=DURATION:PT1H
X-Robots-Tag:noindex
X-PUBLISHED-TTL:PT1H
BEGIN:VTIMEZONE
TZID:America/Detroit
BEGIN:DAYLIGHT
TZOFFSETFROM:-0500
TZOFFSETTO:-0400
TZNAME:EDT
DTSTART:20230312T070000
END:DAYLIGHT
BEGIN:STANDARD
TZOFFSETFROM:-0400
TZOFFSETTO:-0500
TZNAME:EST
DTSTART:20231105T060000
END:STANDARD
BEGIN:DAYLIGHT
TZOFFSETFROM:-0500
TZOFFSETTO:-0400
TZNAME:EDT
DTSTART:20240310T070000
END:DAYLIGHT
BEGIN:STANDARD
TZOFFSETFROM:-0400
TZOFFSETTO:-0500
TZNAME:EST
DTSTART:20241103T060000
END:STANDARD
BEGIN:DAYLIGHT
TZOFFSETFROM:-0500
TZOFFSETTO:-0400
TZNAME:EDT
DTSTART:20250309T070000
END:DAYLIGHT
BEGIN:STANDARD
TZOFFSETFROM:-0400
TZOFFSETTO:-0500
TZNAME:EST
DTSTART:20251102T060000
END:STANDARD
END:VTIMEZONE
BEGIN:VEVENT
DTSTART;TZID=America/Detroit:20240319T200000
DTEND;TZID=America/Detroit:20240319T230000
DTSTAMP:20260423T133718
CREATED:20231208T170046Z
LAST-MODIFIED:20240202T155543Z
UID:10000430-1710878400-1710889200@theark.org
SUMMARY:Tinsley Ellis - Naked Truth Tour
DESCRIPTION:According to Atlanta-based blues guitarist\, singer and songwriter Tinsley Ellis\, his new\, first-ever solo acoustic album\, Naked Truth\, is both “a departure and an arrival.” Ellis has been recording and traveling the world for over four decades\, delivering his feral\, guitar-fueled\, original electric blues-rock to ever-growing audiences at concert halls\, festivals\, and clubs. Naked Truth is steeped in the folk blues traditions of Muddy Waters\, Skip James\, Son House\, Robert Johnson and even Leo Kottke. Stripped of the electric fervor that defined his previous works\, Ellis’ acoustic music carries a rawness that speaks directly from his soul. The songs unveil another side of Tinsley Ellis\, but one that is totally recognizable to his fans. His gruff\, full-throated vocals intertwine seamlessly with the bare\, acoustic arrangements\, creating an album that is both timeless and immediate. No Depression says\, “Ellis shines. When the tempo slows\, the intensity doesn’t waver.” Blues Music Magazine states\, “Tinsley Ellis is a powerful and commanding presence. His music is impossible not to enjoy.”
URL:https://theark.org/event/tinsley-ellis-240319/
LOCATION:The Ark\, 316 S. Main\, Ann Arbor\, MI\, 48104\, United States
ATTACH;FMTTYPE=image/jpeg:https://theark.org/wp-content/uploads/2023/12/tinsley-ellis_byJordanPilgrim-e1701976359319.jpg
END:VEVENT
END:VCALENDAR