BEGIN:VCALENDAR
VERSION:2.0
PRODID:-//The Ark - ECPv6.15.20//NONSGML v1.0//EN
CALSCALE:GREGORIAN
METHOD:PUBLISH
X-ORIGINAL-URL:https://theark.org
X-WR-CALDESC:Events for The Ark
REFRESH-INTERVAL;VALUE=DURATION:PT1H
X-Robots-Tag:noindex
X-PUBLISHED-TTL:PT1H
BEGIN:VTIMEZONE
TZID:America/Detroit
BEGIN:DAYLIGHT
TZOFFSETFROM:-0500
TZOFFSETTO:-0400
TZNAME:EDT
DTSTART:20230312T070000
END:DAYLIGHT
BEGIN:STANDARD
TZOFFSETFROM:-0400
TZOFFSETTO:-0500
TZNAME:EST
DTSTART:20231105T060000
END:STANDARD
BEGIN:DAYLIGHT
TZOFFSETFROM:-0500
TZOFFSETTO:-0400
TZNAME:EDT
DTSTART:20240310T070000
END:DAYLIGHT
BEGIN:STANDARD
TZOFFSETFROM:-0400
TZOFFSETTO:-0500
TZNAME:EST
DTSTART:20241103T060000
END:STANDARD
BEGIN:DAYLIGHT
TZOFFSETFROM:-0500
TZOFFSETTO:-0400
TZNAME:EDT
DTSTART:20250309T070000
END:DAYLIGHT
BEGIN:STANDARD
TZOFFSETFROM:-0400
TZOFFSETTO:-0500
TZNAME:EST
DTSTART:20251102T060000
END:STANDARD
END:VTIMEZONE
BEGIN:VEVENT
DTSTART;TZID=America/Detroit:20240317T193000
DTEND;TZID=America/Detroit:20240317T230000
DTSTAMP:20260423T004332
CREATED:20231026T130020Z
LAST-MODIFIED:20240202T155449Z
UID:10000393-1710703800-1710716400@theark.org
SUMMARY:Dàimh
DESCRIPTION:Come hear the Scots band Irish Music Magazine calls “one of the most exhilarating acoustic bands on the Celtic music map”! Dàimh (the word means “kinship” in Scots Gaelic and is pronounced “dive”) is based in Lochaber in the Highlands and Islands of Scotland; an area as much renowned for its scenic beauty as for its rich musical and cultural heritage. A long‐established favorite at folk festivals in Scotland and Ireland and across Europe\, Dàimh took home Scots Trad Band of the Year honors at the Scots Traditional Music Awards\, Daimh are also regulars on BBC television. Recent lineup changes have seen the introduction of Murdo “Yogi” Cameron on mandola and accordion\, adding unique instrumental flavors to an already phenomenal instrumental arsenal of bagpipes\, fiddle\, mandolin and guitar. From pyrotechnic jigs and reels to achingly poignant ballads\, Dàimh runs the full expressive gamut of folk music at its best\, and is justly renowned for their thrilling live shows.
URL:https://theark.org/event/daimh-240317/
LOCATION:The Ark\, 316 S. Main\, Ann Arbor\, MI\, 48104\, United States
ATTACH;FMTTYPE=image/jpeg:https://theark.org/wp-content/uploads/2023/10/Daimh19.jpg
END:VEVENT
END:VCALENDAR