BEGIN:VCALENDAR
VERSION:2.0
PRODID:-//The Ark - ECPv6.15.20//NONSGML v1.0//EN
CALSCALE:GREGORIAN
METHOD:PUBLISH
X-WR-CALNAME:The Ark
X-ORIGINAL-URL:https://theark.org
X-WR-CALDESC:Events for The Ark
REFRESH-INTERVAL;VALUE=DURATION:PT1H
X-Robots-Tag:noindex
X-PUBLISHED-TTL:PT1H
BEGIN:VTIMEZONE
TZID:America/Detroit
BEGIN:DAYLIGHT
TZOFFSETFROM:-0500
TZOFFSETTO:-0400
TZNAME:EDT
DTSTART:20230312T070000
END:DAYLIGHT
BEGIN:STANDARD
TZOFFSETFROM:-0400
TZOFFSETTO:-0500
TZNAME:EST
DTSTART:20231105T060000
END:STANDARD
BEGIN:DAYLIGHT
TZOFFSETFROM:-0500
TZOFFSETTO:-0400
TZNAME:EDT
DTSTART:20240310T070000
END:DAYLIGHT
BEGIN:STANDARD
TZOFFSETFROM:-0400
TZOFFSETTO:-0500
TZNAME:EST
DTSTART:20241103T060000
END:STANDARD
BEGIN:DAYLIGHT
TZOFFSETFROM:-0500
TZOFFSETTO:-0400
TZNAME:EDT
DTSTART:20250309T070000
END:DAYLIGHT
BEGIN:STANDARD
TZOFFSETFROM:-0400
TZOFFSETTO:-0500
TZNAME:EST
DTSTART:20251102T060000
END:STANDARD
END:VTIMEZONE
BEGIN:VEVENT
DTSTART;TZID=America/Detroit:20240314T200000
DTEND;TZID=America/Detroit:20240314T230000
DTSTAMP:20260425T214124
CREATED:20231014T132009Z
LAST-MODIFIED:20240228T144558Z
UID:10000311-1710446400-1710457200@theark.org
SUMMARY:Paul Thorn & Steve Poltz
DESCRIPTION:In the Ring Together Tour \nSimilar backgrounds yet different paths. Paul Thorn and Steve Poltz have a 20+ year friendship and are taking it on the road and in the ring together this spring for a multi-city tour\, surely to bring love\, laughter  and mischief along with them. Equal parts humor\, poignant stories\, and expert musicianship\, these two storytellers with contagious smiles will put on a show that will make you laugh one minute and cry the next.
URL:https://theark.org/event/paul-thorn-steve-poltz-240314/
LOCATION:The Ark\, 316 S. Main\, Ann Arbor\, MI\, 48104\, United States
CATEGORIES:Sold Out
ATTACH;FMTTYPE=image/png:https://theark.org/wp-content/uploads/2023/10/SP-ITRT-Tour-FB-Event-annarbor240314.png
END:VEVENT
END:VCALENDAR