BEGIN:VCALENDAR
VERSION:2.0
PRODID:-//The Ark - ECPv6.15.20//NONSGML v1.0//EN
CALSCALE:GREGORIAN
METHOD:PUBLISH
X-ORIGINAL-URL:https://theark.org
X-WR-CALDESC:Events for The Ark
REFRESH-INTERVAL;VALUE=DURATION:PT1H
X-Robots-Tag:noindex
X-PUBLISHED-TTL:PT1H
BEGIN:VTIMEZONE
TZID:America/Detroit
BEGIN:DAYLIGHT
TZOFFSETFROM:-0500
TZOFFSETTO:-0400
TZNAME:EDT
DTSTART:20230312T070000
END:DAYLIGHT
BEGIN:STANDARD
TZOFFSETFROM:-0400
TZOFFSETTO:-0500
TZNAME:EST
DTSTART:20231105T060000
END:STANDARD
BEGIN:DAYLIGHT
TZOFFSETFROM:-0500
TZOFFSETTO:-0400
TZNAME:EDT
DTSTART:20240310T070000
END:DAYLIGHT
BEGIN:STANDARD
TZOFFSETFROM:-0400
TZOFFSETTO:-0500
TZNAME:EST
DTSTART:20241103T060000
END:STANDARD
BEGIN:DAYLIGHT
TZOFFSETFROM:-0500
TZOFFSETTO:-0400
TZNAME:EDT
DTSTART:20250309T070000
END:DAYLIGHT
BEGIN:STANDARD
TZOFFSETFROM:-0400
TZOFFSETTO:-0500
TZNAME:EST
DTSTART:20251102T060000
END:STANDARD
END:VTIMEZONE
BEGIN:VEVENT
DTSTART;TZID=America/Detroit:20240313T200000
DTEND;TZID=America/Detroit:20240313T230000
DTSTAMP:20260423T054139
CREATED:20240125T150050Z
LAST-MODIFIED:20240202T155236Z
UID:10000461-1710360000-1710370800@theark.org
SUMMARY:The Shootouts
DESCRIPTION:Hailing from Akron\, Ohio\, The Shootouts are known for their energetic blend of honky-tonk\, Americana\, and Western swing. The band has been nominated for “Best Honky Tonk Group” at the 2023 and 2024 Ameripolitan Music Awards – a nomination the band was also honored with in 2020. \nIn 2023\, The Shootouts released their third album\, “Stampede\,” kicking off their album release tour with their Grand Ole Opry debut. The album reached #4 On The Americana Album Chart\, #1 On The Alt-Country Specialty Chart\, and was named one of the “Most Anticipated Albums Of 2023” by Saving Country Music\, Wide Open Country\, And Glide Magazine. Produced by 10x Grammy-winner Ray Benson\, lead singer of Asleep at The Wheel\, “Stampede” is steeped in all things country music – an energetic fusion of Americana\, honky tonk and Western swing. The album features special guest appearances from Ray Benson & Asleep at The Wheel\, Marty Stuart\, Buddy Miller\, Jim Lauderdale\, and Raul Malo\, lead singer of The Mavericks.
URL:https://theark.org/event/the-shootouts-240313/
LOCATION:The Ark\, 316 S. Main\, Ann Arbor\, MI\, 48104\, United States
ATTACH;FMTTYPE=image/jpeg:https://theark.org/wp-content/uploads/2023/02/The-Shootouts-Stampede-Photo-1-Color-By-Jamie-Escola-1-scaled-1.jpg
END:VEVENT
END:VCALENDAR