BEGIN:VCALENDAR
VERSION:2.0
PRODID:-//The Ark - ECPv6.15.20//NONSGML v1.0//EN
CALSCALE:GREGORIAN
METHOD:PUBLISH
X-WR-CALNAME:The Ark
X-ORIGINAL-URL:https://theark.org
X-WR-CALDESC:Events for The Ark
REFRESH-INTERVAL;VALUE=DURATION:PT1H
X-Robots-Tag:noindex
X-PUBLISHED-TTL:PT1H
BEGIN:VTIMEZONE
TZID:America/Detroit
BEGIN:DAYLIGHT
TZOFFSETFROM:-0500
TZOFFSETTO:-0400
TZNAME:EDT
DTSTART:20230312T070000
END:DAYLIGHT
BEGIN:STANDARD
TZOFFSETFROM:-0400
TZOFFSETTO:-0500
TZNAME:EST
DTSTART:20231105T060000
END:STANDARD
BEGIN:DAYLIGHT
TZOFFSETFROM:-0500
TZOFFSETTO:-0400
TZNAME:EDT
DTSTART:20240310T070000
END:DAYLIGHT
BEGIN:STANDARD
TZOFFSETFROM:-0400
TZOFFSETTO:-0500
TZNAME:EST
DTSTART:20241103T060000
END:STANDARD
BEGIN:DAYLIGHT
TZOFFSETFROM:-0500
TZOFFSETTO:-0400
TZNAME:EDT
DTSTART:20250309T070000
END:DAYLIGHT
BEGIN:STANDARD
TZOFFSETFROM:-0400
TZOFFSETTO:-0500
TZNAME:EST
DTSTART:20251102T060000
END:STANDARD
END:VTIMEZONE
BEGIN:VEVENT
DTSTART;TZID=America/Detroit:20240310T193000
DTEND;TZID=America/Detroit:20240310T230000
DTSTAMP:20260425T234619
CREATED:20240109T150052Z
LAST-MODIFIED:20240221T203212Z
UID:10000445-1710099000-1710111600@theark.org
SUMMARY:Charlie Parr
DESCRIPTION:In the music of Charlie Parr\, there is a sincere conviction and earnest drive to create. The bluesman poet pulls closely from the sights and sounds around him\, his lyrical craftsmanship built by his influences. The sounds from his working-class upbringing—including Folkways legends such as Lead Belly and Woody Guthrie—imbue Parr’s music with stylistic echoes of blues and folk icons of decades past. When Parr sings and plays his resonator or 12-string\, you can hear influences like Mance Lipscomb\, Charley Patton\, Spider John Koerner\, Rev. Gary Davis\, and Dock Boggs. This is especially true in his playing\, when\, after a diagnosis of focal dystonia\, Parr turned to greats like Davis\, Doc Watson\, and Booker White for two-finger picking inspiration.  \nParr’s first album with Smithsonian Folkways\,” Last of Better Days Ahead” (2021)\, foregrounded his lyrical craftsmanship and sophisticated bluesman confidence\, with spare production highlighting Parr’s mastery of guitar and elevating his poetry. In his 2024 release\, “Little Sun\,” Parr weaves together stories celebrating music\, community\, and communing with nature. Putting forth an ambitious and raw album that exemplifies the best of Parr’s sound: a blend of the blues and folk traditions he continues to carry with him and the steadfast originality of a poet. \nModern folk duo Two Runner opens.
URL:https://theark.org/event/charlie-parr-240310/
LOCATION:The Ark\, 316 S. Main\, Ann Arbor\, MI\, 48104\, United States
ATTACH;FMTTYPE=image/jpeg:https://theark.org/wp-content/uploads/2024/01/Charlie-Parr-24web-e1704472149249.jpg
END:VEVENT
END:VCALENDAR