BEGIN:VCALENDAR
VERSION:2.0
PRODID:-//The Ark - ECPv6.15.20//NONSGML v1.0//EN
CALSCALE:GREGORIAN
METHOD:PUBLISH
X-ORIGINAL-URL:https://theark.org
X-WR-CALDESC:Events for The Ark
REFRESH-INTERVAL;VALUE=DURATION:PT1H
X-Robots-Tag:noindex
X-PUBLISHED-TTL:PT1H
BEGIN:VTIMEZONE
TZID:America/Detroit
BEGIN:DAYLIGHT
TZOFFSETFROM:-0500
TZOFFSETTO:-0400
TZNAME:EDT
DTSTART:20230312T070000
END:DAYLIGHT
BEGIN:STANDARD
TZOFFSETFROM:-0400
TZOFFSETTO:-0500
TZNAME:EST
DTSTART:20231105T060000
END:STANDARD
BEGIN:DAYLIGHT
TZOFFSETFROM:-0500
TZOFFSETTO:-0400
TZNAME:EDT
DTSTART:20240310T070000
END:DAYLIGHT
BEGIN:STANDARD
TZOFFSETFROM:-0400
TZOFFSETTO:-0500
TZNAME:EST
DTSTART:20241103T060000
END:STANDARD
BEGIN:DAYLIGHT
TZOFFSETFROM:-0500
TZOFFSETTO:-0400
TZNAME:EDT
DTSTART:20250309T070000
END:DAYLIGHT
BEGIN:STANDARD
TZOFFSETFROM:-0400
TZOFFSETTO:-0500
TZNAME:EST
DTSTART:20251102T060000
END:STANDARD
END:VTIMEZONE
BEGIN:VEVENT
DTSTART;TZID=America/Detroit:20240309T200000
DTEND;TZID=America/Detroit:20240309T230000
DTSTAMP:20260423T061134
CREATED:20231219T150019Z
LAST-MODIFIED:20240202T155128Z
UID:10000442-1710014400-1710025200@theark.org
SUMMARY:Josh Ritter
DESCRIPTION:The Ark helped spread Josh Ritter’s name among Michigan audiences when he made a standout performance at the Ann Arbor Folk Festival in 2003\, and we’re proud that we\, along with Emmylou Harris and Paste magazine\, which named Josh one of the 100 greatest living songwriters in 2006\, spotted this monster talent in the making. Josh has gone on to record a dozen albums\, write a book or two\, tour with Jason Isbell\, and play much larger halls than The Ark. So it’s very special to us to invite Josh to perform in a rare small club appearance. He’s an entrancing performer\, a true master of the songwriter’s art. This is a special Works In Progress + Songs You Know solo show. Says Josh: “I’ve realized that a necessary part of working on records is finding the material that hangs together. I write A LOT of songs\, and not all of them play nicely with the others. The most useful (and fun) way to find a song’s heart is to periodically play some shows where I’m able to get it all out there and see how I feel about them. I’m really looking forward to these shows for the chance to get all these songs\, and some that are old friends\, out on the table for a good time.”
URL:https://theark.org/event/josh-ritter-240309/
LOCATION:The Ark\, 316 S. Main\, Ann Arbor\, MI\, 48104\, United States
CATEGORIES:Sold Out
ATTACH;FMTTYPE=image/jpeg:https://theark.org/wp-content/uploads/2023/12/JoshRitter_HorizPhoto_bySamKassirer-scaled.jpeg
END:VEVENT
END:VCALENDAR