BEGIN:VCALENDAR
VERSION:2.0
PRODID:-//The Ark - ECPv6.15.20//NONSGML v1.0//EN
CALSCALE:GREGORIAN
METHOD:PUBLISH
X-ORIGINAL-URL:https://theark.org
X-WR-CALDESC:Events for The Ark
REFRESH-INTERVAL;VALUE=DURATION:PT1H
X-Robots-Tag:noindex
X-PUBLISHED-TTL:PT1H
BEGIN:VTIMEZONE
TZID:America/Detroit
BEGIN:DAYLIGHT
TZOFFSETFROM:-0500
TZOFFSETTO:-0400
TZNAME:EDT
DTSTART:20230312T070000
END:DAYLIGHT
BEGIN:STANDARD
TZOFFSETFROM:-0400
TZOFFSETTO:-0500
TZNAME:EST
DTSTART:20231105T060000
END:STANDARD
BEGIN:DAYLIGHT
TZOFFSETFROM:-0500
TZOFFSETTO:-0400
TZNAME:EDT
DTSTART:20240310T070000
END:DAYLIGHT
BEGIN:STANDARD
TZOFFSETFROM:-0400
TZOFFSETTO:-0500
TZNAME:EST
DTSTART:20241103T060000
END:STANDARD
BEGIN:DAYLIGHT
TZOFFSETFROM:-0500
TZOFFSETTO:-0400
TZNAME:EDT
DTSTART:20250309T070000
END:DAYLIGHT
BEGIN:STANDARD
TZOFFSETFROM:-0400
TZOFFSETTO:-0500
TZNAME:EST
DTSTART:20251102T060000
END:STANDARD
END:VTIMEZONE
BEGIN:VEVENT
DTSTART;TZID=America/Detroit:20240307T200000
DTEND;TZID=America/Detroit:20240307T230000
DTSTAMP:20260422T113021
CREATED:20231214T150027Z
LAST-MODIFIED:20240202T155014Z
UID:10000439-1709841600-1709852400@theark.org
SUMMARY:Dave Sharp Worlds Quartet
DESCRIPTION:The Dave Sharp Worlds Quartet masterfully blends rhythms\, sounds\, and textures from across the globe with world music–inspired original compositions. Featuring oud\, violin\, electric bass\, synthesizer and world percussion\, the Worlds Quartet is fueled by the spirit of jazz\, world music and dynamic exploratory improvisation. Bassist\, composer\, and bandleader Dave Sharp leads the Worlds Quartet to explore music traditions from Turkey\, Egypt\, Ukraine\, India\, Bulgaria and Greece. The quartet has appeared at Ascona Jazz Switzerland\, Detroit Jazz Festival\, Lansing Jazz Fest\, Concert of Colors Detroit\, Ann Arbor Summer Festival\, Bach Music Festival\, Lansing Harmony Celebration Lansing\, Rasa Indian Arts Festival Ann Arbor\, and intimate venues such as Kerrytown Concert House\, Blue LLama Jazz Club\, Music Hall Jazz Cafe Detroit\, UrbanBeat Events Center Lansing\, and Riverfolk Music and Arts Blacksmith Shop Concert Series in Manchester.
URL:https://theark.org/event/dave-sharp-worlds-quartet-240307/
LOCATION:The Ark\, 316 S. Main\, Ann Arbor\, MI\, 48104\, United States
ATTACH;FMTTYPE=image/jpeg:https://theark.org/wp-content/uploads/2023/12/DaveSharpWorldsQuartetHorizontal-scaled.jpg
END:VEVENT
END:VCALENDAR