BEGIN:VCALENDAR
VERSION:2.0
PRODID:-//The Ark - ECPv6.15.20//NONSGML v1.0//EN
CALSCALE:GREGORIAN
METHOD:PUBLISH
X-ORIGINAL-URL:https://theark.org
X-WR-CALDESC:Events for The Ark
REFRESH-INTERVAL;VALUE=DURATION:PT1H
X-Robots-Tag:noindex
X-PUBLISHED-TTL:PT1H
BEGIN:VTIMEZONE
TZID:America/Detroit
BEGIN:DAYLIGHT
TZOFFSETFROM:-0500
TZOFFSETTO:-0400
TZNAME:EDT
DTSTART:20230312T070000
END:DAYLIGHT
BEGIN:STANDARD
TZOFFSETFROM:-0400
TZOFFSETTO:-0500
TZNAME:EST
DTSTART:20231105T060000
END:STANDARD
BEGIN:DAYLIGHT
TZOFFSETFROM:-0500
TZOFFSETTO:-0400
TZNAME:EDT
DTSTART:20240310T070000
END:DAYLIGHT
BEGIN:STANDARD
TZOFFSETFROM:-0400
TZOFFSETTO:-0500
TZNAME:EST
DTSTART:20241103T060000
END:STANDARD
BEGIN:DAYLIGHT
TZOFFSETFROM:-0500
TZOFFSETTO:-0400
TZNAME:EDT
DTSTART:20250309T070000
END:DAYLIGHT
BEGIN:STANDARD
TZOFFSETFROM:-0400
TZOFFSETTO:-0500
TZNAME:EST
DTSTART:20251102T060000
END:STANDARD
END:VTIMEZONE
BEGIN:VEVENT
DTSTART;TZID=America/Detroit:20240305T200000
DTEND;TZID=America/Detroit:20240305T230000
DTSTAMP:20260422T063407
CREATED:20231114T150054Z
LAST-MODIFIED:20240202T154905Z
UID:10000411-1709668800-1709679600@theark.org
SUMMARY:Madi Diaz
DESCRIPTION:Madi Diaz has been making records and writing songs professionally since the late 2000s\, but it wasn’t until she released 2021’s “History Of A Feeling” that she felt the glare of wider notoriety. It wasn’t her debut album\, but it certainly felt like it.  She made her daytime and nighttime television debuts\, embarked on her first solo tour since 2014\, supported Waxahatchee and Angel Olsen on tour\, and collaborated with them on record. Harry Styles handpicked Madi to open for him in arenas and stadiums in North America\, and was so taken by her captivating live show\, he asked her to be a member of his touring band\, to sing alongside him all over Europe and the UK\, as well as continuing to open the show in various cities. After touring internationally\, Madi is taking her new album\, “Weird Faith\,” on the road. When Madi started writing “Weird Faith\,” she knew it would be bigger than a love story. She didn’t yet know that she was rendering a self-portrait\, one that captures the Madi Diaz of a fleeting moment in time\, hungrily alive and forever searching. 
URL:https://theark.org/event/madi-diaz-240305/
LOCATION:The Ark\, 316 S. Main\, Ann Arbor\, MI\, 48104\, United States
ATTACH;FMTTYPE=image/jpeg:https://theark.org/wp-content/uploads/2023/11/Madi-Diaz-scaled.jpeg
END:VEVENT
END:VCALENDAR