BEGIN:VCALENDAR
VERSION:2.0
PRODID:-//The Ark - ECPv6.15.20//NONSGML v1.0//EN
CALSCALE:GREGORIAN
METHOD:PUBLISH
X-ORIGINAL-URL:https://theark.org
X-WR-CALDESC:Events for The Ark
REFRESH-INTERVAL;VALUE=DURATION:PT1H
X-Robots-Tag:noindex
X-PUBLISHED-TTL:PT1H
BEGIN:VTIMEZONE
TZID:America/Detroit
BEGIN:DAYLIGHT
TZOFFSETFROM:-0500
TZOFFSETTO:-0400
TZNAME:EDT
DTSTART:20230312T070000
END:DAYLIGHT
BEGIN:STANDARD
TZOFFSETFROM:-0400
TZOFFSETTO:-0500
TZNAME:EST
DTSTART:20231105T060000
END:STANDARD
BEGIN:DAYLIGHT
TZOFFSETFROM:-0500
TZOFFSETTO:-0400
TZNAME:EDT
DTSTART:20240310T070000
END:DAYLIGHT
BEGIN:STANDARD
TZOFFSETFROM:-0400
TZOFFSETTO:-0500
TZNAME:EST
DTSTART:20241103T060000
END:STANDARD
BEGIN:DAYLIGHT
TZOFFSETFROM:-0500
TZOFFSETTO:-0400
TZNAME:EDT
DTSTART:20250309T070000
END:DAYLIGHT
BEGIN:STANDARD
TZOFFSETFROM:-0400
TZOFFSETTO:-0500
TZNAME:EST
DTSTART:20251102T060000
END:STANDARD
END:VTIMEZONE
BEGIN:VEVENT
DTSTART;TZID=America/Detroit:20240304T200000
DTEND;TZID=America/Detroit:20240304T230000
DTSTAMP:20260423T004312
CREATED:20231014T132302Z
LAST-MODIFIED:20240202T154839Z
UID:10000312-1709582400-1709593200@theark.org
SUMMARY:Lunasa
DESCRIPTION:Lúnasa is an Irish traditional band with a rhythmic difference. Rhythm—their ingenious application of it\, and their clear mastery of it—has made Lúnasa one of the most influential and innovative bands performing Irish instrumental music today. What Lúnasa has accomplished in their decade-and-a-half career has deep precedents in jazz and progressive bluegrass\, and has made them unique in Celtic circles. Lúnasa welds the ancient soul of traditional instrumental Irish music to a new rhythmic framework\, one which breaks down the barrier between soloist and accompanist and creates a dynamic polyphony that preserves the dignity of their sources while placing the band firmly in the modern age. From day one\, the double bass of Trevor Hutchinson (formerly of The Waterboys) has been the band’s fulcrum. The presence of more young Irish bands featuring the double bass—a relative stranger to the genre—is just one example of how Lúnasa’s powerful sound has shaped and continues to shape the development of Irish music today.
URL:https://theark.org/event/lunasa-240304/
LOCATION:The Ark\, 316 S. Main\, Ann Arbor\, MI\, 48104\, United States
ATTACH;FMTTYPE=image/jpeg:https://theark.org/wp-content/uploads/2023/10/Lunasa-23.jpg
END:VEVENT
END:VCALENDAR