BEGIN:VCALENDAR
VERSION:2.0
PRODID:-//The Ark - ECPv6.15.20//NONSGML v1.0//EN
CALSCALE:GREGORIAN
METHOD:PUBLISH
X-WR-CALNAME:The Ark
X-ORIGINAL-URL:https://theark.org
X-WR-CALDESC:Events for The Ark
REFRESH-INTERVAL;VALUE=DURATION:PT1H
X-Robots-Tag:noindex
X-PUBLISHED-TTL:PT1H
BEGIN:VTIMEZONE
TZID:America/Detroit
BEGIN:DAYLIGHT
TZOFFSETFROM:-0500
TZOFFSETTO:-0400
TZNAME:EDT
DTSTART:20230312T070000
END:DAYLIGHT
BEGIN:STANDARD
TZOFFSETFROM:-0400
TZOFFSETTO:-0500
TZNAME:EST
DTSTART:20231105T060000
END:STANDARD
BEGIN:DAYLIGHT
TZOFFSETFROM:-0500
TZOFFSETTO:-0400
TZNAME:EDT
DTSTART:20240310T070000
END:DAYLIGHT
BEGIN:STANDARD
TZOFFSETFROM:-0400
TZOFFSETTO:-0500
TZNAME:EST
DTSTART:20241103T060000
END:STANDARD
BEGIN:DAYLIGHT
TZOFFSETFROM:-0500
TZOFFSETTO:-0400
TZNAME:EDT
DTSTART:20250309T070000
END:DAYLIGHT
BEGIN:STANDARD
TZOFFSETFROM:-0400
TZOFFSETTO:-0500
TZNAME:EST
DTSTART:20251102T060000
END:STANDARD
END:VTIMEZONE
BEGIN:VEVENT
DTSTART;TZID=America/Detroit:20240302T163000
DTEND;TZID=America/Detroit:20240302T174500
DTSTAMP:20260422T150935
CREATED:20240212T193031Z
LAST-MODIFIED:20240215T183823Z
UID:10000494-1709397000-1709401500@theark.org
SUMMARY:Daniel Ho 'Ukulele Workshop
DESCRIPTION:DANIEL HO is a six-time Grammy winner\, with 4 of his Grammy credits as producer of George Kahumoku’s 4 Grammy wins. He is a multi-instrumentalist\, composer\, arranger\, and performer\, with talent and versatility on ‘ukulele\, slack key guitar\, piano\, and vocals. His two other Grammy wins were with close friend Tia Carrere. \nDaniel will be teaching techniques and singing in the Hawaiian language using his original song\, Aloha Pumehana (co-written by Hawaiian Music scholar and University of Michigan professor Amy Kuʻuleialoha Stillman). \nAdding Depth and Dimension to your Music\nWith his original Hawaiian love song Aloha Pumehana as a reference\, Daniel will share how to create interesting layers of arrangement using color tones\, counterpoint\, fingerstyle\, and strumming. He’ll discuss:\n– How to make simple chords even simpler and sound better by adding open string color tones.\n– How to play and sing\n– How to produce a beautiful fingerstyle tone\n– A little about the Hawaiian language\n– How to create interesting arrangements using color tones\, movement\, finger style\, and strumming \nIt will be a fun and educational beginner/intermediate class on contemporary Hawaiian ‘ukulele! \nRegister for the workshop here.
URL:https://theark.org/event/daniel-ho-ukulele-workshop-240302/
LOCATION:The Ark\, 316 S. Main\, Ann Arbor\, MI\, 48104\, United States
CATEGORIES:Special Event
ATTACH;FMTTYPE=image/jpeg:https://theark.org/wp-content/uploads/2024/02/DanielHo_ukulele_hat_LydiaMiyashiro-Ho-web.jpg
END:VEVENT
BEGIN:VEVENT
DTSTART;TZID=America/Detroit:20240302T200000
DTEND;TZID=America/Detroit:20240302T230000
DTSTAMP:20260422T150935
CREATED:20240111T150039Z
LAST-MODIFIED:20240202T154217Z
UID:10000448-1709409600-1709420400@theark.org
SUMMARY:Masters of Hawaiian Music
DESCRIPTION:Three masters\, featured regularly at Maui’s renowned “Slack Key Show®” share the uniquely Hawaiian styles of slack key guitar and ‘ukulele\, with origins in the early 19th century when Portuguese immigrants introduced the ‘ukulele to Hawai‘i and Mexican cowboys brought guitars along with their ranching knowledge. Ever since\, Hawaiians have made these instruments their own. \nFour-time Grammy-winner and master slack key guitarist George Kahumoku Jr.\, known as “Hawai‘i’s Renaissance Man\,” is a vocalist\, storyteller\, songwriter\, author\, teacher\, sculptor\, farmer\, and chef. Daniel Ho is a six-time Grammy winner. He is a multi instrumentalist with talent and versatility on ‘ukulele\, slack key guitar\, piano\, and vocals. International star and two-time Grammy winner Tia Carrere first made her name showcasing her considerable singing and acting chops in Wayne’s World. She went on to featured roles in film and television\, returning to her Hawai’i roots with her Grammy-winning albums with Daniel Ho.
URL:https://theark.org/event/masters-of-hawaiian-music-240302/
LOCATION:The Ark\, 316 S. Main\, Ann Arbor\, MI\, 48104\, United States
ATTACH;FMTTYPE=image/jpeg:https://theark.org/wp-content/uploads/2024/01/GeorgeKahumoku_TiaCarrere.jpg
END:VEVENT
END:VCALENDAR