BEGIN:VCALENDAR
VERSION:2.0
PRODID:-//The Ark - ECPv6.15.20//NONSGML v1.0//EN
CALSCALE:GREGORIAN
METHOD:PUBLISH
X-ORIGINAL-URL:https://theark.org
X-WR-CALDESC:Events for The Ark
REFRESH-INTERVAL;VALUE=DURATION:PT1H
X-Robots-Tag:noindex
X-PUBLISHED-TTL:PT1H
BEGIN:VTIMEZONE
TZID:America/Detroit
BEGIN:DAYLIGHT
TZOFFSETFROM:-0500
TZOFFSETTO:-0400
TZNAME:EDT
DTSTART:20230312T070000
END:DAYLIGHT
BEGIN:STANDARD
TZOFFSETFROM:-0400
TZOFFSETTO:-0500
TZNAME:EST
DTSTART:20231105T060000
END:STANDARD
BEGIN:DAYLIGHT
TZOFFSETFROM:-0500
TZOFFSETTO:-0400
TZNAME:EDT
DTSTART:20240310T070000
END:DAYLIGHT
BEGIN:STANDARD
TZOFFSETFROM:-0400
TZOFFSETTO:-0500
TZNAME:EST
DTSTART:20241103T060000
END:STANDARD
BEGIN:DAYLIGHT
TZOFFSETFROM:-0500
TZOFFSETTO:-0400
TZNAME:EDT
DTSTART:20250309T070000
END:DAYLIGHT
BEGIN:STANDARD
TZOFFSETFROM:-0400
TZOFFSETTO:-0500
TZNAME:EST
DTSTART:20251102T060000
END:STANDARD
END:VTIMEZONE
BEGIN:VEVENT
DTSTART;TZID=America/Detroit:20240301T200000
DTEND;TZID=America/Detroit:20240301T230000
DTSTAMP:20260422T080847
CREATED:20231014T132517Z
LAST-MODIFIED:20240202T154139Z
UID:10000313-1709323200-1709334000@theark.org
SUMMARY:Enter The Haggis
DESCRIPTION:A haggis is a tasty Scottish dish consisting of sheep heart\, liver\, and lungs\, mixed with oatmeal\, onion\, suet\, and spices\, and then boiled inside the sheep’s stomach. The Canadian-Scots band Enter the Haggis (bagpiper Craig Downie is from Scotland) has just about as much variety in their style\, a high-speed collision of Celtic music\, rock\, bluegrass\, funk\, and world music. An Enter the Haggis live show is a musical feast—dynamic and emotionally uplifting. Alternating between upbeat rock numbers with sing-along choruses and slower\, more introspective alt pop songs\, the band plays progressive and lyrically driven music that’s strongly rooted in Celtic tradition—from the storytelling to the bagpipes.
URL:https://theark.org/event/enter-the-haggis-240301/
LOCATION:The Ark\, 316 S. Main\, Ann Arbor\, MI\, 48104\, United States
ATTACH;FMTTYPE=image/jpeg:https://theark.org/wp-content/uploads/2022/09/EnterTheHaggis2023.jpg
END:VEVENT
END:VCALENDAR