BEGIN:VCALENDAR
VERSION:2.0
PRODID:-//The Ark - ECPv6.15.20//NONSGML v1.0//EN
CALSCALE:GREGORIAN
METHOD:PUBLISH
X-WR-CALNAME:The Ark
X-ORIGINAL-URL:https://theark.org
X-WR-CALDESC:Events for The Ark
REFRESH-INTERVAL;VALUE=DURATION:PT1H
X-Robots-Tag:noindex
X-PUBLISHED-TTL:PT1H
BEGIN:VTIMEZONE
TZID:America/Detroit
BEGIN:DAYLIGHT
TZOFFSETFROM:-0500
TZOFFSETTO:-0400
TZNAME:EDT
DTSTART:20230312T070000
END:DAYLIGHT
BEGIN:STANDARD
TZOFFSETFROM:-0400
TZOFFSETTO:-0500
TZNAME:EST
DTSTART:20231105T060000
END:STANDARD
BEGIN:DAYLIGHT
TZOFFSETFROM:-0500
TZOFFSETTO:-0400
TZNAME:EDT
DTSTART:20240310T070000
END:DAYLIGHT
BEGIN:STANDARD
TZOFFSETFROM:-0400
TZOFFSETTO:-0500
TZNAME:EST
DTSTART:20241103T060000
END:STANDARD
BEGIN:DAYLIGHT
TZOFFSETFROM:-0500
TZOFFSETTO:-0400
TZNAME:EDT
DTSTART:20250309T070000
END:DAYLIGHT
BEGIN:STANDARD
TZOFFSETFROM:-0400
TZOFFSETTO:-0500
TZNAME:EST
DTSTART:20251102T060000
END:STANDARD
END:VTIMEZONE
BEGIN:VEVENT
DTSTART;TZID=America/Detroit:20240229T200000
DTEND;TZID=America/Detroit:20240229T230000
DTSTAMP:20260422T134346
CREATED:20231014T133141Z
LAST-MODIFIED:20240202T154050Z
UID:10000314-1709236800-1709247600@theark.org
SUMMARY:The Steel Wheels
DESCRIPTION:The Steel Wheels have long been at home in the creative space between tradition and innovation\, informed by the familiar sounds of the Virginia mountains where the band was formed\, but always moving forward with insightful lyrics and an evolving sound. In 2005\, Jay Lapp (vocals\, guitars\, mandolin) and Eric Brubaker (vocals\, fiddle) joined lead singer Trent Wagler (guitar\, banjo) in forming the band as a vehicle for Wagler’s songwriting. They released several albums under Wagler’s moniker\, before officially adopting the The Steel Wheels name with the 2010 release of “Red Wing.” Quickly staking their claim as independent upstarts in the burgeoning Americana scene\, The Steel Wheels followed up this release with three more self-produced albums in the next five years\, before joining forces with producer Sam Kassirer for “Wild As We Came Here” (2017) and “Over The Trees” (2019). Kevin Garcia (drums\, percussion\, keys) joined in 2017\, bringing a new level of sonic depth and polish to the outfit. Newest member Jeremy Darrow rounds out the rhythm section and grounds the band as they continue to explore deeply rooted yet fresh folk rock sounds.  Having gained the experience of thousands of shows\, festivals and many miles on the road\, the stubbornly independent band has formed deep bonds with each other and the audience that sustains them.
URL:https://theark.org/event/the-steel-wheels-240229/
LOCATION:The Ark\, 316 S. Main\, Ann Arbor\, MI\, 48104\, United States
ATTACH;FMTTYPE=image/jpeg:https://theark.org/wp-content/uploads/2023/10/The-Steel-Wheels-Photo-Credit-Mike-Lee-web.jpg
END:VEVENT
END:VCALENDAR