BEGIN:VCALENDAR
VERSION:2.0
PRODID:-//The Ark - ECPv6.15.20//NONSGML v1.0//EN
CALSCALE:GREGORIAN
METHOD:PUBLISH
X-ORIGINAL-URL:https://theark.org
X-WR-CALDESC:Events for The Ark
REFRESH-INTERVAL;VALUE=DURATION:PT1H
X-Robots-Tag:noindex
X-PUBLISHED-TTL:PT1H
BEGIN:VTIMEZONE
TZID:America/Detroit
BEGIN:DAYLIGHT
TZOFFSETFROM:-0500
TZOFFSETTO:-0400
TZNAME:EDT
DTSTART:20230312T070000
END:DAYLIGHT
BEGIN:STANDARD
TZOFFSETFROM:-0400
TZOFFSETTO:-0500
TZNAME:EST
DTSTART:20231105T060000
END:STANDARD
BEGIN:DAYLIGHT
TZOFFSETFROM:-0500
TZOFFSETTO:-0400
TZNAME:EDT
DTSTART:20240310T070000
END:DAYLIGHT
BEGIN:STANDARD
TZOFFSETFROM:-0400
TZOFFSETTO:-0500
TZNAME:EST
DTSTART:20241103T060000
END:STANDARD
BEGIN:DAYLIGHT
TZOFFSETFROM:-0500
TZOFFSETTO:-0400
TZNAME:EDT
DTSTART:20250309T070000
END:DAYLIGHT
BEGIN:STANDARD
TZOFFSETFROM:-0400
TZOFFSETTO:-0500
TZNAME:EST
DTSTART:20251102T060000
END:STANDARD
END:VTIMEZONE
BEGIN:VEVENT
DTSTART;TZID=America/Detroit:20240225T130000
DTEND;TZID=America/Detroit:20240225T143000
DTSTAMP:20260422T080725
CREATED:20231214T150005Z
LAST-MODIFIED:20241016T123702Z
UID:10000435-1708866000-1708871400@theark.org
SUMMARY:The Ark's 37th Annual Storytelling Festival - Family Show
DESCRIPTION:Master storytellers Lyn Ford and Genot Picor deliver an entertaining family-friendly show. These artists keep kids engaged through action\, music\, fun and funny characters\, while celebrating the unique cultures and diversity of our nation. Genot Picor (guitar) will be joined by Sean O’Connell (violin).
URL:https://theark.org/event/the-arks-37th-annual-storytelling-festival-family-show-240225/
LOCATION:The Ark\, 316 S. Main\, Ann Arbor\, MI\, 48104\, United States
ATTACH;FMTTYPE=image/jpeg:https://theark.org/wp-content/uploads/2023/12/Too-Happy.jpg
END:VEVENT
BEGIN:VEVENT
DTSTART;TZID=America/Detroit:20240225T193000
DTEND;TZID=America/Detroit:20240225T230000
DTSTAMP:20260422T080725
CREATED:20231112T150027Z
LAST-MODIFIED:20240202T153917Z
UID:10000406-1708889400-1708902000@theark.org
SUMMARY:Richard Shindell
DESCRIPTION:Richard Shindell is a New Yorker living in Argentina: a craftsman and a real wizard of song. He’s played for coins in the Paris subway\, and he’s studied for the priesthood. His gift for profound storytelling songs drew him into the world of folk music. Richard Shindell champions the downtrodden\, exalts the disaffected\, skewers prejudice\, war\, and religious intolerance. He steps into and fully inhabits the various personalities his songs create—some of them female. In the words of No Depression\, “Shindell tells great stories with an eye for critical detail while never losing sight of the big picture. He works a well-worn stretch of singer-songwriter pavement\, but his wonderfully spiritual lyrical sense and intimate compositions ultimately distinguish him.” The Valley Advocate in Massachusetts has called Richard Shindell “the thinking man’s folk singer\,” and you’re not going to hear better-crafted songs anywhere. Richard announced his retirement several years ago\, but he’s back\, and we’re glad to be part of his new tour!
URL:https://theark.org/event/richard-shindell-240225/
LOCATION:The Ark\, 316 S. Main\, Ann Arbor\, MI\, 48104\, United States
ATTACH;FMTTYPE=image/jpeg:https://theark.org/wp-content/uploads/2023/11/Richard-Shindell-by-Jo-Chattman-low-res-landscape.jpeg
END:VEVENT
END:VCALENDAR