BEGIN:VCALENDAR
VERSION:2.0
PRODID:-//The Ark - ECPv6.15.20//NONSGML v1.0//EN
CALSCALE:GREGORIAN
METHOD:PUBLISH
X-WR-CALNAME:The Ark
X-ORIGINAL-URL:https://theark.org
X-WR-CALDESC:Events for The Ark
REFRESH-INTERVAL;VALUE=DURATION:PT1H
X-Robots-Tag:noindex
X-PUBLISHED-TTL:PT1H
BEGIN:VTIMEZONE
TZID:America/Detroit
BEGIN:DAYLIGHT
TZOFFSETFROM:-0500
TZOFFSETTO:-0400
TZNAME:EDT
DTSTART:20230312T070000
END:DAYLIGHT
BEGIN:STANDARD
TZOFFSETFROM:-0400
TZOFFSETTO:-0500
TZNAME:EST
DTSTART:20231105T060000
END:STANDARD
BEGIN:DAYLIGHT
TZOFFSETFROM:-0500
TZOFFSETTO:-0400
TZNAME:EDT
DTSTART:20240310T070000
END:DAYLIGHT
BEGIN:STANDARD
TZOFFSETFROM:-0400
TZOFFSETTO:-0500
TZNAME:EST
DTSTART:20241103T060000
END:STANDARD
BEGIN:DAYLIGHT
TZOFFSETFROM:-0500
TZOFFSETTO:-0400
TZNAME:EDT
DTSTART:20250309T070000
END:DAYLIGHT
BEGIN:STANDARD
TZOFFSETFROM:-0400
TZOFFSETTO:-0500
TZNAME:EST
DTSTART:20251102T060000
END:STANDARD
END:VTIMEZONE
BEGIN:VEVENT
DTSTART;TZID=America/Detroit:20240223T200000
DTEND;TZID=America/Detroit:20240223T230000
DTSTAMP:20260421T180301
CREATED:20231214T150002Z
LAST-MODIFIED:20241016T123735Z
UID:10000433-1708718400-1708729200@theark.org
SUMMARY:The Ark's 37th Annual Storytelling Festival - Liar's Contest
DESCRIPTION:Liars have been around since the snake first hit it off with Eve. By some accounts\, contests celebrating liars have been around since the 15th century\, but these accounts may be apocryphal. Today\, liars contests are held in countries all around the globe. \nThe Second Annual Liar’s Contest at The Ark includes six first-class liars and three celebrity judges. The chaos wrangler and MC will once again be the amazing Amir Baghdadchi\, keeping things lively and fun. The judges for the event each have a professional relationship to liars. \nKarl Fink is a retired District and Circuit court judge\, and so has been around liars all his life\, and that doesn’t just include the lawyers. Paul Strickland is a national storyteller who fibs for a living. Jennifer Conlin is Michigan State Representative for House District 48. So she’s a politician (mic drop).
URL:https://theark.org/event/the-arks-37th-annual-storytelling-festival-liars-contest-240223/
LOCATION:The Ark\, 316 S. Main\, Ann Arbor\, MI\, 48104\, United States
ATTACH;FMTTYPE=image/jpeg:https://theark.org/wp-content/uploads/2022/10/Amir-Baghadchi.jpg
END:VEVENT
END:VCALENDAR