BEGIN:VCALENDAR
VERSION:2.0
PRODID:-//The Ark - ECPv6.15.20//NONSGML v1.0//EN
CALSCALE:GREGORIAN
METHOD:PUBLISH
X-WR-CALNAME:The Ark
X-ORIGINAL-URL:https://theark.org
X-WR-CALDESC:Events for The Ark
REFRESH-INTERVAL;VALUE=DURATION:PT1H
X-Robots-Tag:noindex
X-PUBLISHED-TTL:PT1H
BEGIN:VTIMEZONE
TZID:America/Detroit
BEGIN:DAYLIGHT
TZOFFSETFROM:-0500
TZOFFSETTO:-0400
TZNAME:EDT
DTSTART:20230312T070000
END:DAYLIGHT
BEGIN:STANDARD
TZOFFSETFROM:-0400
TZOFFSETTO:-0500
TZNAME:EST
DTSTART:20231105T060000
END:STANDARD
BEGIN:DAYLIGHT
TZOFFSETFROM:-0500
TZOFFSETTO:-0400
TZNAME:EDT
DTSTART:20240310T070000
END:DAYLIGHT
BEGIN:STANDARD
TZOFFSETFROM:-0400
TZOFFSETTO:-0500
TZNAME:EST
DTSTART:20241103T060000
END:STANDARD
BEGIN:DAYLIGHT
TZOFFSETFROM:-0500
TZOFFSETTO:-0400
TZNAME:EDT
DTSTART:20250309T070000
END:DAYLIGHT
BEGIN:STANDARD
TZOFFSETFROM:-0400
TZOFFSETTO:-0500
TZNAME:EST
DTSTART:20251102T060000
END:STANDARD
END:VTIMEZONE
BEGIN:VEVENT
DTSTART;TZID=America/Detroit:20240205T200000
DTEND;TZID=America/Detroit:20240205T230000
DTSTAMP:20260421T164003
CREATED:20231214T150017Z
LAST-MODIFIED:20240202T152555Z
UID:10000436-1707163200-1707174000@theark.org
SUMMARY:Eric Johanson
DESCRIPTION:In the midst of creating his new album\, “The Deep and the Dirty\,” singer-guitarist Eric Johanson learned that his previous album cracked the Top 10 on the Billboard blues chart. It was his fourth time reaching the Top 10. And for a Louisiana native who’d grown up idolizing bluesmen like Freddie King and Robert Johnson\, it felt pretty good. Even so\, genre success didn’t discourage Johanson from reaching beyond the blues for the new album’s eclectic\, electrifying songs. “I’ve never tried to stay within one box\,” Eric says. “Blues is at the root of the different styles of music I play—hard rock\, Americana\, New Orleans funk\, country—but I don’t see the lines between genres\, and I’m not following a standard form. What I find important about the blues is the rawness of it. The expression of it. The humanness of it. That’s what makes “The Deep and the Dirty” a blues album: the raw self-expression.”
URL:https://theark.org/event/eric-johanson-240205/
LOCATION:The Ark\, 316 S. Main\, Ann Arbor\, MI\, 48104\, United States
ATTACH;FMTTYPE=image/jpeg:https://theark.org/wp-content/uploads/2023/12/Eric-Johanson-IMG_2158-scaled-1.jpg
END:VEVENT
END:VCALENDAR