BEGIN:VCALENDAR
VERSION:2.0
PRODID:-//The Ark - ECPv6.15.20//NONSGML v1.0//EN
CALSCALE:GREGORIAN
METHOD:PUBLISH
X-ORIGINAL-URL:https://theark.org
X-WR-CALDESC:Events for The Ark
REFRESH-INTERVAL;VALUE=DURATION:PT1H
X-Robots-Tag:noindex
X-PUBLISHED-TTL:PT1H
BEGIN:VTIMEZONE
TZID:America/Detroit
BEGIN:DAYLIGHT
TZOFFSETFROM:-0500
TZOFFSETTO:-0400
TZNAME:EDT
DTSTART:20230312T070000
END:DAYLIGHT
BEGIN:STANDARD
TZOFFSETFROM:-0400
TZOFFSETTO:-0500
TZNAME:EST
DTSTART:20231105T060000
END:STANDARD
BEGIN:DAYLIGHT
TZOFFSETFROM:-0500
TZOFFSETTO:-0400
TZNAME:EDT
DTSTART:20240310T070000
END:DAYLIGHT
BEGIN:STANDARD
TZOFFSETFROM:-0400
TZOFFSETTO:-0500
TZNAME:EST
DTSTART:20241103T060000
END:STANDARD
BEGIN:DAYLIGHT
TZOFFSETFROM:-0500
TZOFFSETTO:-0400
TZNAME:EDT
DTSTART:20250309T070000
END:DAYLIGHT
BEGIN:STANDARD
TZOFFSETFROM:-0400
TZOFFSETTO:-0500
TZNAME:EST
DTSTART:20251102T060000
END:STANDARD
END:VTIMEZONE
BEGIN:VEVENT
DTSTART;TZID=America/Detroit:20240204T193000
DTEND;TZID=America/Detroit:20240204T230000
DTSTAMP:20260422T045121
CREATED:20240111T150040Z
LAST-MODIFIED:20240202T152454Z
UID:10000447-1707075000-1707087600@theark.org
SUMMARY:Bil Lepp
DESCRIPTION:Bil Lepp is an award-winning storyteller\, author\, and recording artist. He’s the host of the History Channel’s Man Vs History series\, the occasional host of NPR’s internationally syndicated Mountain Stage\, and a contributing columnist to the West Virginia Gazette-Mail. Bil’s humorous\, family friendly tall-tales and stories have earned the appreciation of listeners of all ages and from all walks of life. Though a five time champion of the WV Liars’s Contest\, Lepp’s stories often contain morsels of truth which present universal themes in clever and witty ways. Audiences all across the country\, from grade schools to corporate execs to the Comedy Central’s Hudson stage\, have been delighted by Bil’s mirthful tales and delightful insights into everyday life. Bil’s books and audio collections have won awards including the PEN Steven Kroll Award for Children’s Book Writing\, Parents’ Choice Gold awards\, and awards from the National Parenting Publications Assoc.\, and the Public Library Assoc. He is also the recipient of the Vandalia Award\, West Virginia’s highest folk honor. 
URL:https://theark.org/event/bil-lepp-240204/
LOCATION:The Ark\, 316 S. Main\, Ann Arbor\, MI\, 48104\, United States
ATTACH;FMTTYPE=image/jpeg:https://theark.org/wp-content/uploads/2024/01/Bil-Lep.jpg
END:VEVENT
END:VCALENDAR