BEGIN:VCALENDAR
VERSION:2.0
PRODID:-//The Ark - ECPv6.15.20//NONSGML v1.0//EN
CALSCALE:GREGORIAN
METHOD:PUBLISH
X-WR-CALNAME:The Ark
X-ORIGINAL-URL:https://theark.org
X-WR-CALDESC:Events for The Ark
REFRESH-INTERVAL;VALUE=DURATION:PT1H
X-Robots-Tag:noindex
X-PUBLISHED-TTL:PT1H
BEGIN:VTIMEZONE
TZID:America/Detroit
BEGIN:DAYLIGHT
TZOFFSETFROM:-0500
TZOFFSETTO:-0400
TZNAME:EDT
DTSTART:20230312T070000
END:DAYLIGHT
BEGIN:STANDARD
TZOFFSETFROM:-0400
TZOFFSETTO:-0500
TZNAME:EST
DTSTART:20231105T060000
END:STANDARD
BEGIN:DAYLIGHT
TZOFFSETFROM:-0500
TZOFFSETTO:-0400
TZNAME:EDT
DTSTART:20240310T070000
END:DAYLIGHT
BEGIN:STANDARD
TZOFFSETFROM:-0400
TZOFFSETTO:-0500
TZNAME:EST
DTSTART:20241103T060000
END:STANDARD
BEGIN:DAYLIGHT
TZOFFSETFROM:-0500
TZOFFSETTO:-0400
TZNAME:EDT
DTSTART:20250309T070000
END:DAYLIGHT
BEGIN:STANDARD
TZOFFSETFROM:-0400
TZOFFSETTO:-0500
TZNAME:EST
DTSTART:20251102T060000
END:STANDARD
END:VTIMEZONE
BEGIN:VEVENT
DTSTART;TZID=America/Detroit:20240203T200000
DTEND;TZID=America/Detroit:20240203T230000
DTSTAMP:20260420T232324
CREATED:20231014T133801Z
LAST-MODIFIED:20240202T152419Z
UID:10000317-1706990400-1707001200@theark.org
SUMMARY:Appalachian Roadshow
DESCRIPTION:Appalachian Roadshow is a visionary acoustic ensemble\, bringing new-generation interpretations of traditional Americana\, bluegrass and folk songs\, as well as offering innovative original music\, all presented with a common thread tied directly to the heart of the Appalachian regions of the United States. Grammy-nominated banjoist Barry Abernathy joins forces with Grammy-winning fiddler Jim VanCleve\, fresh off of his recent stint touring with multi-platinum country artist Josh Turner\, as well as esteemed vocalist and mandolinist Darrell Webb\, who has recorded and toured with Dolly Parton and Rhonda Vincent\, among many others. The group also includes 26-year-old “old soul” guitarist Zeb Snyder\, whose fierce and versatile playing recalls Doc Watson and Norman Blake as readily as it does Duane Allman and Stevie Ray Vaughn.
URL:https://theark.org/event/appalachian-roadshow-240203/
LOCATION:The Ark\, 316 S. Main\, Ann Arbor\, MI\, 48104\, United States
ATTACH;FMTTYPE=image/jpeg:https://theark.org/wp-content/uploads/2023/10/ARS.jpg
END:VEVENT
END:VCALENDAR