BEGIN:VCALENDAR
VERSION:2.0
PRODID:-//The Ark - ECPv6.15.20//NONSGML v1.0//EN
CALSCALE:GREGORIAN
METHOD:PUBLISH
X-WR-CALNAME:The Ark
X-ORIGINAL-URL:https://theark.org
X-WR-CALDESC:Events for The Ark
REFRESH-INTERVAL;VALUE=DURATION:PT1H
X-Robots-Tag:noindex
X-PUBLISHED-TTL:PT1H
BEGIN:VTIMEZONE
TZID:America/Detroit
BEGIN:DAYLIGHT
TZOFFSETFROM:-0500
TZOFFSETTO:-0400
TZNAME:EDT
DTSTART:20230312T070000
END:DAYLIGHT
BEGIN:STANDARD
TZOFFSETFROM:-0400
TZOFFSETTO:-0500
TZNAME:EST
DTSTART:20231105T060000
END:STANDARD
BEGIN:DAYLIGHT
TZOFFSETFROM:-0500
TZOFFSETTO:-0400
TZNAME:EDT
DTSTART:20240310T070000
END:DAYLIGHT
BEGIN:STANDARD
TZOFFSETFROM:-0400
TZOFFSETTO:-0500
TZNAME:EST
DTSTART:20241103T060000
END:STANDARD
BEGIN:DAYLIGHT
TZOFFSETFROM:-0500
TZOFFSETTO:-0400
TZNAME:EDT
DTSTART:20250309T070000
END:DAYLIGHT
BEGIN:STANDARD
TZOFFSETFROM:-0400
TZOFFSETTO:-0500
TZNAME:EST
DTSTART:20251102T060000
END:STANDARD
END:VTIMEZONE
BEGIN:VEVENT
DTSTART;TZID=America/Detroit:20240118T200000
DTEND;TZID=America/Detroit:20240118T230000
DTSTAMP:20260420T184633
CREATED:20231014T140246Z
LAST-MODIFIED:20231115T185314Z
UID:10000328-1705608000-1705618800@theark.org
SUMMARY:Folk Fest Warm Up: On a Winter's Night
DESCRIPTION:Folk Fest Warm-up: On A Winter’s Night brings together four veteran singer-songwriters – all longtime friends of The Ark and the Ann Arbor Folk Festival – who are among the brightest stars of the singer/songwriter movement over the past three decades. Join us in the cozy\, intimate space of The Ark’s Ford Listening Room for an in-the-round performance with Ark favorites John Gorka\, Patty Larkin\, Lucy Kaplansky\, and Cliff Eberhardt. In 1994 Christine Lavin gathered these top singer-songwriters together\, along with other folk and Americana artists to showcase music of the Winter Season on the now-classic “On A Winter’s Night” CD\, followed by several years of touring collaborations. These artists have released dozens of recordings and toured steadily through the decades\, with fond memories of their touring days together. The winter season is again celebrated by these unique and popular performers\, back together by popular demand. \nAs we get ready to roll out the full details of the 47th Ann Arbor Folk Festival next month\, we’re excited to announce that Bank of Ann Arbor will once again join The Ark as Folk Fest 2024’s Presenting Sponsor. “Each year\, the Ann Arbor Folk Festival surprises us with its exceptional lineup of performers\,” says Tim Marshall\, president and CEO of Bank of Ann Arbor. “This year is no exception. Once again\, we’re proud and excited to be the presenting sponsor of one of our country’s great musical events\, here in one of America’s culturally rich towns. Great musicians are always welcome and appreciated in Ann Arbor.
URL:https://theark.org/event/folk-fest-warm-up-on-a-winters-night-240118/
LOCATION:The Ark\, 316 S. Main\, Ann Arbor\, MI\, 48104\, United States
CATEGORIES:Special Event
ATTACH;FMTTYPE=image/jpeg:https://theark.org/wp-content/uploads/2023/10/Warm-Up_Winter_Night_Header-event-scaled.jpg
END:VEVENT
END:VCALENDAR