BEGIN:VCALENDAR
VERSION:2.0
PRODID:-//The Ark - ECPv6.15.20//NONSGML v1.0//EN
CALSCALE:GREGORIAN
METHOD:PUBLISH
X-ORIGINAL-URL:https://theark.org
X-WR-CALDESC:Events for The Ark
REFRESH-INTERVAL;VALUE=DURATION:PT1H
X-Robots-Tag:noindex
X-PUBLISHED-TTL:PT1H
BEGIN:VTIMEZONE
TZID:America/Detroit
BEGIN:DAYLIGHT
TZOFFSETFROM:-0500
TZOFFSETTO:-0400
TZNAME:EDT
DTSTART:20230312T070000
END:DAYLIGHT
BEGIN:STANDARD
TZOFFSETFROM:-0400
TZOFFSETTO:-0500
TZNAME:EST
DTSTART:20231105T060000
END:STANDARD
BEGIN:DAYLIGHT
TZOFFSETFROM:-0500
TZOFFSETTO:-0400
TZNAME:EDT
DTSTART:20240310T070000
END:DAYLIGHT
BEGIN:STANDARD
TZOFFSETFROM:-0400
TZOFFSETTO:-0500
TZNAME:EST
DTSTART:20241103T060000
END:STANDARD
BEGIN:DAYLIGHT
TZOFFSETFROM:-0500
TZOFFSETTO:-0400
TZNAME:EDT
DTSTART:20250309T070000
END:DAYLIGHT
BEGIN:STANDARD
TZOFFSETFROM:-0400
TZOFFSETTO:-0500
TZNAME:EST
DTSTART:20251102T060000
END:STANDARD
END:VTIMEZONE
BEGIN:VEVENT
DTSTART;TZID=America/Detroit:20240111T200000
DTEND;TZID=America/Detroit:20240111T230000
DTSTAMP:20260421T042738
CREATED:20231014T143709Z
LAST-MODIFIED:20231115T184901Z
UID:10000340-1705003200-1705014000@theark.org
SUMMARY:Corey Harris & Cedric Watson "True Blues"
DESCRIPTION:Featuring two of the most fascinating voices in modern Delta blues\,—Corey Harris and Cedric Watson—”True Blues” is a very special show. Corey is a MacArthur Grant recipient\, and Cedric is one of Louisiana’s foremost purveyors of Creole music and culture. True Blues chronicles the extraordinary living culture of the blues in an evening of music and conversation. Guitarist\, vocalist\, songwriter\, bandleader\, and MacArthur fellow Corey Harris has carved out his own niche in the blues tradition. He has performed\, recorded\, and toured with many of the top names in music such as B.B. King\, Taj Mahal\, Buddy Guy\, R.L.Burnside\, The Dave Matthews Band\, Tracy Chapman\, and Wilco\, among others\, and was a featured artist and narrator of the Martin Scorcese 2003 film “Feel Like Going Home\,” which traced the evolution of blues from West Africa to the southern U.S. Corey shares the stage with one of the brightest young talents to emerge in Cajun\, creole and zydeco (Louisiana French) music over the last decade\, Cedric Watson—a four-time Grammy-nominated fiddler\, singer\, accordionist\, and songwriter with seemingly unlimited potential.
URL:https://theark.org/event/corey-harris-cedric-watson-true-blues-240111/
LOCATION:The Ark\, 316 S. Main\, Ann Arbor\, MI\, 48104\, United States
ATTACH;FMTTYPE=image/jpeg:https://theark.org/wp-content/uploads/2023/10/Corey-Harris-Cedric-Watson.jpg
END:VEVENT
END:VCALENDAR