BEGIN:VCALENDAR
VERSION:2.0
PRODID:-//The Ark - ECPv6.15.20//NONSGML v1.0//EN
CALSCALE:GREGORIAN
METHOD:PUBLISH
X-WR-CALNAME:The Ark
X-ORIGINAL-URL:https://theark.org
X-WR-CALDESC:Events for The Ark
REFRESH-INTERVAL;VALUE=DURATION:PT1H
X-Robots-Tag:noindex
X-PUBLISHED-TTL:PT1H
BEGIN:VTIMEZONE
TZID:America/Detroit
BEGIN:DAYLIGHT
TZOFFSETFROM:-0500
TZOFFSETTO:-0400
TZNAME:EDT
DTSTART:20230312T070000
END:DAYLIGHT
BEGIN:STANDARD
TZOFFSETFROM:-0400
TZOFFSETTO:-0500
TZNAME:EST
DTSTART:20231105T060000
END:STANDARD
BEGIN:DAYLIGHT
TZOFFSETFROM:-0500
TZOFFSETTO:-0400
TZNAME:EDT
DTSTART:20240310T070000
END:DAYLIGHT
BEGIN:STANDARD
TZOFFSETFROM:-0400
TZOFFSETTO:-0500
TZNAME:EST
DTSTART:20241103T060000
END:STANDARD
BEGIN:DAYLIGHT
TZOFFSETFROM:-0500
TZOFFSETTO:-0400
TZNAME:EDT
DTSTART:20250309T070000
END:DAYLIGHT
BEGIN:STANDARD
TZOFFSETFROM:-0400
TZOFFSETTO:-0500
TZNAME:EST
DTSTART:20251102T060000
END:STANDARD
END:VTIMEZONE
BEGIN:VEVENT
DTSTART;TZID=America/Detroit:20240109T193000
DTEND;TZID=America/Detroit:20240109T230000
DTSTAMP:20260421T173646
CREATED:20231130T150025Z
LAST-MODIFIED:20240108T145900Z
UID:10000414-1704828600-1704841200@theark.org
SUMMARY:Save The Speakeasy Benefit Concert
DESCRIPTION:In 2022\, Johnny Williams’ home — above his well-known and highly regarded house concert venue\, Johnny’s Speakeasy — suffered a devastating fire. Johnny paid for a premium homeowner’s replacement policy for nearly 30 years\, but after 18+ months his insurance company continues to delay fair payment on his claim. A denial of fair payment will shutter this historic Ann Arbor musical institution and force Johnny Williams\, a pillar of our community\, to move away. As of now\, the insurance company stopped paying for temporary housing so Johnny has been forced to move up north near family. This benefit concert features a lineup of some of the finest artists from across Michigan performing in support and solidarity with the grassroots\, community driven campaign to Save the Speakeasy and Bring Johnny Home! All proceeds will go to a community created legal fund to help Johnny attain a fair settlement so that he can return to Ann Arbor\, rebuild his home\, and reopen the beloved Speakeasy. \nLivestream the show here: https://www.facebook.com/events/2348396778883858/ \nPlease note early start time. \nLineup:\nChris Buhalis\nJudy Banker Band\nAl Bettis\nDave Boutette & Kristi Davis\nAnnie & Rod Capps Band\nRochelle Clark\nShari Kane & Dave Steele\nBilly King and San & Emily Slomovits\nMisty Lyn & the Big Beautiful\nPeter Madcat Ruth\nThe Sidemen\nThe Dick Siegel Trio\nRollie Tussing Trio\nThe Whiskey Charmers\nWilson Thicket
URL:https://theark.org/event/save-the-speakeasy-benefit-concert-240109/
LOCATION:The Ark\, 316 S. Main\, Ann Arbor\, MI\, 48104\, United States
CATEGORIES:Sold Out
ATTACH;FMTTYPE=image/jpeg:https://theark.org/wp-content/uploads/2023/11/SaveTheSpeakeasy-FBevent-Rev113023.jpg
END:VEVENT
END:VCALENDAR