BEGIN:VCALENDAR
VERSION:2.0
PRODID:-//The Ark - ECPv6.15.20//NONSGML v1.0//EN
CALSCALE:GREGORIAN
METHOD:PUBLISH
X-WR-CALNAME:The Ark
X-ORIGINAL-URL:https://theark.org
X-WR-CALDESC:Events for The Ark
REFRESH-INTERVAL;VALUE=DURATION:PT1H
X-Robots-Tag:noindex
X-PUBLISHED-TTL:PT1H
BEGIN:VTIMEZONE
TZID:America/Detroit
BEGIN:DAYLIGHT
TZOFFSETFROM:-0500
TZOFFSETTO:-0400
TZNAME:EDT
DTSTART:20230312T070000
END:DAYLIGHT
BEGIN:STANDARD
TZOFFSETFROM:-0400
TZOFFSETTO:-0500
TZNAME:EST
DTSTART:20231105T060000
END:STANDARD
BEGIN:DAYLIGHT
TZOFFSETFROM:-0500
TZOFFSETTO:-0400
TZNAME:EDT
DTSTART:20240310T070000
END:DAYLIGHT
BEGIN:STANDARD
TZOFFSETFROM:-0400
TZOFFSETTO:-0500
TZNAME:EST
DTSTART:20241103T060000
END:STANDARD
BEGIN:DAYLIGHT
TZOFFSETFROM:-0500
TZOFFSETTO:-0400
TZNAME:EDT
DTSTART:20250309T070000
END:DAYLIGHT
BEGIN:STANDARD
TZOFFSETFROM:-0400
TZOFFSETTO:-0500
TZNAME:EST
DTSTART:20251102T060000
END:STANDARD
END:VTIMEZONE
BEGIN:VEVENT
DTSTART;TZID=America/Detroit:20240108T200000
DTEND;TZID=America/Detroit:20240108T230000
DTSTAMP:20260421T173424
CREATED:20231109T150036Z
LAST-MODIFIED:20231108T152932Z
UID:10000399-1704744000-1704754800@theark.org
SUMMARY:Albert Lee
DESCRIPTION:British guitar legend Albert Lee\, regarded by many as one of the world’s finest guitar players\, with a career spanning more than 50 years\, needs no introduction for country\, blues and rock fans. Widely hailed for his fingerstyle and hybrid picking technique\, Albert Lee helped to redefine country guitar for a whole generation of players with his song “Country Boy.” Albert’s many career highlights include two Grammy wins\, five years in the Eric Clapton band (at Clapton’s request Albert played the Crossroads Festival with Eric at Madison Square Garden) and stints with the Rolling Stones’ Bill Wyman\, The Crickets\, the Everly Brothers\, Joe Cocker\, Emmylou Harris\, Rodney Crowell and many more. Take it from Emmylou\, who says\, “When Saint Peter asks me to chronicle my time down here on earth\, I’ll be able to say—with pride if that’s allowed—that for a while I played rhythm guitar in a band with Albert Lee.” Come by and pick up a copy of Albert’s new album\, “Gypsy Man: A Tribute to Buddy Holly.”
URL:https://theark.org/event/albert-lee-240108/
LOCATION:The Ark\, 316 S. Main\, Ann Arbor\, MI\, 48104\, United States
ATTACH;FMTTYPE=image/jpeg:https://theark.org/wp-content/uploads/2022/11/albert-lee1.jpg
END:VEVENT
END:VCALENDAR