BEGIN:VCALENDAR
VERSION:2.0
PRODID:-//The Ark - ECPv6.15.20//NONSGML v1.0//EN
CALSCALE:GREGORIAN
METHOD:PUBLISH
X-WR-CALNAME:The Ark
X-ORIGINAL-URL:https://theark.org
X-WR-CALDESC:Events for The Ark
REFRESH-INTERVAL;VALUE=DURATION:PT1H
X-Robots-Tag:noindex
X-PUBLISHED-TTL:PT1H
BEGIN:VTIMEZONE
TZID:America/Detroit
BEGIN:DAYLIGHT
TZOFFSETFROM:-0500
TZOFFSETTO:-0400
TZNAME:EDT
DTSTART:20230312T070000
END:DAYLIGHT
BEGIN:STANDARD
TZOFFSETFROM:-0400
TZOFFSETTO:-0500
TZNAME:EST
DTSTART:20231105T060000
END:STANDARD
BEGIN:DAYLIGHT
TZOFFSETFROM:-0500
TZOFFSETTO:-0400
TZNAME:EDT
DTSTART:20240310T070000
END:DAYLIGHT
BEGIN:STANDARD
TZOFFSETFROM:-0400
TZOFFSETTO:-0500
TZNAME:EST
DTSTART:20241103T060000
END:STANDARD
BEGIN:DAYLIGHT
TZOFFSETFROM:-0500
TZOFFSETTO:-0400
TZNAME:EDT
DTSTART:20250309T070000
END:DAYLIGHT
BEGIN:STANDARD
TZOFFSETFROM:-0400
TZOFFSETTO:-0500
TZNAME:EST
DTSTART:20251102T060000
END:STANDARD
END:VTIMEZONE
BEGIN:VEVENT
DTSTART;TZID=America/Detroit:20240103T200000
DTEND;TZID=America/Detroit:20240103T230000
DTSTAMP:20260420T101935
CREATED:20231109T150024Z
LAST-MODIFIED:20231204T193828Z
UID:10000398-1704312000-1704322800@theark.org
SUMMARY:Gemini's 150th Birthday Celebration
DESCRIPTION:You read that right! Gemini\, the Michigan duo of San and Laz Slomovits\, consists of a pair of twin brothers\, and they’re celebrating their 75th birthdays. Gemini is well known and loved for their shows for families. But lately\, thanks in part to the budding folk career of San’s daughter Emily —who will be joining them for this show — they’ve reinvigorated their career singing music for adults. They’ll also be joined by their longtime Good Mischief Band\, Mike Morrison on drums and Eric Fithian on bass. The brothers play songs by many of the artists who’ve inspired them\, including Woody Guthrie\, Pete Seeger\, Bob Dylan\, Tom Paxton\, and the Beatles. They also sing their own songs\, as well as poetry they’ve set to music. Leave the kids at home with their favorite babysitter and come celebrate and sing with two beloved Michigan musicians! \nThis show is not aimed specifically at families.
URL:https://theark.org/event/geminis-150th-birthday-celebration-240103/
LOCATION:The Ark\, 316 S. Main\, Ann Arbor\, MI\, 48104\, United States
ATTACH;FMTTYPE=image/jpeg:https://theark.org/wp-content/uploads/2023/10/Gemini-2023-1.jpg
END:VEVENT
END:VCALENDAR