BEGIN:VCALENDAR
VERSION:2.0
PRODID:-//The Ark - ECPv6.15.20//NONSGML v1.0//EN
CALSCALE:GREGORIAN
METHOD:PUBLISH
X-WR-CALNAME:The Ark
X-ORIGINAL-URL:https://theark.org
X-WR-CALDESC:Events for The Ark
REFRESH-INTERVAL;VALUE=DURATION:PT1H
X-Robots-Tag:noindex
X-PUBLISHED-TTL:PT1H
BEGIN:VTIMEZONE
TZID:America/Detroit
BEGIN:DAYLIGHT
TZOFFSETFROM:-0500
TZOFFSETTO:-0400
TZNAME:EDT
DTSTART:20220313T070000
END:DAYLIGHT
BEGIN:STANDARD
TZOFFSETFROM:-0400
TZOFFSETTO:-0500
TZNAME:EST
DTSTART:20221106T060000
END:STANDARD
BEGIN:DAYLIGHT
TZOFFSETFROM:-0500
TZOFFSETTO:-0400
TZNAME:EDT
DTSTART:20230312T070000
END:DAYLIGHT
BEGIN:STANDARD
TZOFFSETFROM:-0400
TZOFFSETTO:-0500
TZNAME:EST
DTSTART:20231105T060000
END:STANDARD
BEGIN:DAYLIGHT
TZOFFSETFROM:-0500
TZOFFSETTO:-0400
TZNAME:EDT
DTSTART:20240310T070000
END:DAYLIGHT
BEGIN:STANDARD
TZOFFSETFROM:-0400
TZOFFSETTO:-0500
TZNAME:EST
DTSTART:20241103T060000
END:STANDARD
END:VTIMEZONE
BEGIN:VEVENT
DTSTART;TZID=America/Detroit:20231217T193000
DTEND;TZID=America/Detroit:20231217T230000
DTSTAMP:20260420T190220
CREATED:20230522T130039Z
LAST-MODIFIED:20231030T125541Z
UID:10000251-1702841400-1702854000@theark.org
SUMMARY:Vienna Teng
DESCRIPTION:“I was in a long-distance relationship with music for many years\,” jokes singer-songwriter Vienna Teng. Long-distance\, perhaps\, but long-running. In 2002\, Vienna released her debut album Waking Hour\, landing her on NPR’s Weekend Edition\, The Late Show with David Letterman\, and the top of Amazon’s music charts. Four more albums followed\, most recently Aims in 2013\, as well as the music for The Fourth Messenger by playwright Tanya Shaffer. Together with Vienna’s captivating live performances and thoughtful online presence\, her work has built a devoted following across generations and continents. \nStill\, other pursuits have always beckoned. Vienna returned to academia in 2010 to study environmental sustainability\, which led to a new career working on climate change\, energy and waste issues. She also became a bonus parent to her partner’s two kids\, and in early 2020 welcomed a newborn addition to the family – just in time for pandemic lockdown. \n“I learned a lot about what it means to hold two truths in your head at the same time\, as the saying goes\,” Vienna says of that period. Out of that idea emerged some of the most intricate and impassioned songwriting she’s ever done: a pair of songs called “We’ve Got You\,” about leading and leaning on one’s community. When she performs it on stage – solo\, live-looping her voice\, keyboards and percussion to layer the two songs together – the audience response is electric. \n“We’ve Got You” also marks a new chapter of merging her musical and environmental vocations. In 2022\, she launched a “music x climate action” community on Patreon\, combining monthly livestream shows with Zoom climate action sessions\, and hosting workshops between concerts that participants have described as “life-changing\,” “rocket fuel\,” and “the perfect antidote to despair.” \nThe long-distance phase is over. Now it’s time for communion – and moving forward. \nAre you ready to do more about climate change\, but feel a bit overwhelmed? Wish you knew where to put your limited time & energy? This workshop might be for you: \nDrawing on her recent years working in environmental sustainability\, Vienna will help you discover what enjoyable\, meaningful climate action looks like for you personally\, tailored to your unique circumstances\, interests\, and superpowers. You’ll get to know some fellow music lovers taking their own similar journeys\, and you’ll come away with practical first steps to actually make it happen. (Plus there might be a bonus music moment or two.) \nThe workshop will run for 2 hours and will be capped at 20 participants\, to make sure each person gets ample support. \nhttps://www.eventbrite.com/e/1217-climate-action-workshop-with-vienna-teng-the-ark-tickets-641584324987
URL:https://theark.org/event/vienna-teng-231217/
LOCATION:The Ark\, 316 S. Main\, Ann Arbor\, MI\, 48104\, United States
CATEGORIES:Sold Out
ATTACH;FMTTYPE=image/jpeg:https://theark.org/wp-content/uploads/2022/09/Vienna-Teng-2022-web-credit-Samantha-Hines.jpg
END:VEVENT
END:VCALENDAR