BEGIN:VCALENDAR
VERSION:2.0
PRODID:-//The Ark - ECPv6.15.20//NONSGML v1.0//EN
CALSCALE:GREGORIAN
METHOD:PUBLISH
X-ORIGINAL-URL:https://theark.org
X-WR-CALDESC:Events for The Ark
REFRESH-INTERVAL;VALUE=DURATION:PT1H
X-Robots-Tag:noindex
X-PUBLISHED-TTL:PT1H
BEGIN:VTIMEZONE
TZID:America/Detroit
BEGIN:DAYLIGHT
TZOFFSETFROM:-0500
TZOFFSETTO:-0400
TZNAME:EDT
DTSTART:20220313T070000
END:DAYLIGHT
BEGIN:STANDARD
TZOFFSETFROM:-0400
TZOFFSETTO:-0500
TZNAME:EST
DTSTART:20221106T060000
END:STANDARD
BEGIN:DAYLIGHT
TZOFFSETFROM:-0500
TZOFFSETTO:-0400
TZNAME:EDT
DTSTART:20230312T070000
END:DAYLIGHT
BEGIN:STANDARD
TZOFFSETFROM:-0400
TZOFFSETTO:-0500
TZNAME:EST
DTSTART:20231105T060000
END:STANDARD
BEGIN:DAYLIGHT
TZOFFSETFROM:-0500
TZOFFSETTO:-0400
TZNAME:EDT
DTSTART:20240310T070000
END:DAYLIGHT
BEGIN:STANDARD
TZOFFSETFROM:-0400
TZOFFSETTO:-0500
TZNAME:EST
DTSTART:20241103T060000
END:STANDARD
END:VTIMEZONE
BEGIN:VEVENT
DTSTART;TZID=America/Detroit:20231216T200000
DTEND;TZID=America/Detroit:20231216T230000
DTSTAMP:20260421T060049
CREATED:20231014T145238Z
LAST-MODIFIED:20231115T184619Z
UID:10000348-1702756800-1702767600@theark.org
SUMMARY:Blackthorn
DESCRIPTION:At it since 1984\, Blackthorn offers shows that involve a musical ramble across Ireland. Traditional songs of emigration\, ballads\, shanties and jigs and reels combine with some of Ireland’s best contemporary songs for a musical experience that is uniquely Irish. Each of the band’s five members plays multiple instruments\, including flute\, accordion\, tin whistle\, fiddle\, banjo\, cittern\, bodhran\, and more. These instruments complement the lead vocal of Belfast native Richard McMullan and the band’s tight blend of four-part harmony. This band has been bringing a rich tapestry of Celtic music to southeast Michigan and beyond for almost 40 years\, and they’re a must-see for those who want to know the deep traditions of Irish music in Michigan. They’re members of the Michigan Irish American Hall of Fame. And\, this being December\, there may be a holiday tune or two!
URL:https://theark.org/event/blackthorn-231216/
LOCATION:The Ark\, 316 S. Main\, Ann Arbor\, MI\, 48104\, United States
ATTACH;FMTTYPE=image/jpeg:https://theark.org/wp-content/uploads/2023/10/Group_Doors.jpg
END:VEVENT
END:VCALENDAR