BEGIN:VCALENDAR
VERSION:2.0
PRODID:-//The Ark - ECPv6.15.20//NONSGML v1.0//EN
CALSCALE:GREGORIAN
METHOD:PUBLISH
X-ORIGINAL-URL:https://theark.org
X-WR-CALDESC:Events for The Ark
REFRESH-INTERVAL;VALUE=DURATION:PT1H
X-Robots-Tag:noindex
X-PUBLISHED-TTL:PT1H
BEGIN:VTIMEZONE
TZID:America/Detroit
BEGIN:DAYLIGHT
TZOFFSETFROM:-0500
TZOFFSETTO:-0400
TZNAME:EDT
DTSTART:20220313T070000
END:DAYLIGHT
BEGIN:STANDARD
TZOFFSETFROM:-0400
TZOFFSETTO:-0500
TZNAME:EST
DTSTART:20221106T060000
END:STANDARD
BEGIN:DAYLIGHT
TZOFFSETFROM:-0500
TZOFFSETTO:-0400
TZNAME:EDT
DTSTART:20230312T070000
END:DAYLIGHT
BEGIN:STANDARD
TZOFFSETFROM:-0400
TZOFFSETTO:-0500
TZNAME:EST
DTSTART:20231105T060000
END:STANDARD
BEGIN:DAYLIGHT
TZOFFSETFROM:-0500
TZOFFSETTO:-0400
TZNAME:EDT
DTSTART:20240310T070000
END:DAYLIGHT
BEGIN:STANDARD
TZOFFSETFROM:-0400
TZOFFSETTO:-0500
TZNAME:EST
DTSTART:20241103T060000
END:STANDARD
END:VTIMEZONE
BEGIN:VEVENT
DTSTART;TZID=America/Detroit:20231212T200000
DTEND;TZID=America/Detroit:20231212T230000
DTSTAMP:20260422T060353
CREATED:20231014T145415Z
LAST-MODIFIED:20231115T184446Z
UID:10000349-1702411200-1702422000@theark.org
SUMMARY:Lisa LeBlanc
DESCRIPTION:Lisa LeBlanc comes from a French-speaking village in New Brunswick\, and she sings in English and French. She calls her music “trash folk\,” and it includes elements of Acadian folk music and garage rock. Lisa sings and plays the guitar\, and she has a powerful voice and gives shows with a strong physicality. Lisa’s latest album is “Chiac Disco\,” a bright\, funny and sparkling record\, filled with all kinds of musical glitter and colorful lyrics sung loud and proud. The album earned her a repeat visit to the Polaris Short List\, as well as the Félix awards in the categories Album Production of the Year (with her trusted collaborator Benoit Morier) and Pop Album of the Year. Join us for the Ark debut of this rising Canadian original!
URL:https://theark.org/event/lisa-leblanc-231212/
LOCATION:The Ark\, 316 S. Main\, Ann Arbor\, MI\, 48104\, United States
ATTACH;FMTTYPE=image/jpeg:https://theark.org/wp-content/uploads/2023/10/Lisa-LeBlanc.jpg
END:VEVENT
END:VCALENDAR