BEGIN:VCALENDAR
VERSION:2.0
PRODID:-//The Ark - ECPv6.15.20//NONSGML v1.0//EN
CALSCALE:GREGORIAN
METHOD:PUBLISH
X-ORIGINAL-URL:https://theark.org
X-WR-CALDESC:Events for The Ark
REFRESH-INTERVAL;VALUE=DURATION:PT1H
X-Robots-Tag:noindex
X-PUBLISHED-TTL:PT1H
BEGIN:VTIMEZONE
TZID:America/Detroit
BEGIN:DAYLIGHT
TZOFFSETFROM:-0500
TZOFFSETTO:-0400
TZNAME:EDT
DTSTART:20220313T070000
END:DAYLIGHT
BEGIN:STANDARD
TZOFFSETFROM:-0400
TZOFFSETTO:-0500
TZNAME:EST
DTSTART:20221106T060000
END:STANDARD
BEGIN:DAYLIGHT
TZOFFSETFROM:-0500
TZOFFSETTO:-0400
TZNAME:EDT
DTSTART:20230312T070000
END:DAYLIGHT
BEGIN:STANDARD
TZOFFSETFROM:-0400
TZOFFSETTO:-0500
TZNAME:EST
DTSTART:20231105T060000
END:STANDARD
BEGIN:DAYLIGHT
TZOFFSETFROM:-0500
TZOFFSETTO:-0400
TZNAME:EDT
DTSTART:20240310T070000
END:DAYLIGHT
BEGIN:STANDARD
TZOFFSETFROM:-0400
TZOFFSETTO:-0500
TZNAME:EST
DTSTART:20241103T060000
END:STANDARD
END:VTIMEZONE
BEGIN:VEVENT
DTSTART;TZID=America/Detroit:20231210T193000
DTEND;TZID=America/Detroit:20231210T230000
DTSTAMP:20260420T152855
CREATED:20231014T144651Z
LAST-MODIFIED:20231115T183734Z
UID:10000346-1702236600-1702249200@theark.org
SUMMARY:Mike Cooley (of Drive-By Truckers)
DESCRIPTION:Whether battling valiantly from behind the enemy lines of his dive-bar-underground past or blowing the doors off sold-out theaters as he’s done with Drive-By Truckers for the last decade\, Mike Cooley has proved his mettle time and time again. He’s rock & roll incarnate—Mick and Keith rolled into one impossibly cool\, soul-howling\, guitar rattlin’ ball of genuine unapologetic grit and swagger. At least that’s how it seems gazing up from the crowd at a packed DBT show. So how did this modern-day rock hero feel about temporarily ditching his band and rolling back the volume for the unaccompanied acoustic performances that would become his debut solo record\, “The Fool on Every Corner?” “When you don’t do it normally\, it’s terrifying\,” Mike admits. “I try to relax\, but I’ll probably never be able to sit down in a chair on stage as easily as I sit down on a toilet behind a closed door. That’s the goal—somewhere in between\,” he deadpans. “I set the bar high.” Despite his bad nerves and tongue-in-cheek penchant for self-deprecation\, Cooley shines\, tossing aside his guitar pick and playing almost everything with his fingers. “Strip it\, strip it\, strip it down\,” he says\, alluding to the mantra that guided these performances. “What’s left is the song and nothing else.”
URL:https://theark.org/event/mike-cooley-231210/
LOCATION:The Ark\, 316 S. Main\, Ann Arbor\, MI\, 48104\, United States
ATTACH;FMTTYPE=image/jpeg:https://theark.org/wp-content/uploads/2023/10/Mike-Cooley.jpg
END:VEVENT
END:VCALENDAR