BEGIN:VCALENDAR
VERSION:2.0
PRODID:-//The Ark - ECPv6.15.20//NONSGML v1.0//EN
CALSCALE:GREGORIAN
METHOD:PUBLISH
X-ORIGINAL-URL:https://theark.org
X-WR-CALDESC:Events for The Ark
REFRESH-INTERVAL;VALUE=DURATION:PT1H
X-Robots-Tag:noindex
X-PUBLISHED-TTL:PT1H
BEGIN:VTIMEZONE
TZID:America/Detroit
BEGIN:DAYLIGHT
TZOFFSETFROM:-0500
TZOFFSETTO:-0400
TZNAME:EDT
DTSTART:20220313T070000
END:DAYLIGHT
BEGIN:STANDARD
TZOFFSETFROM:-0400
TZOFFSETTO:-0500
TZNAME:EST
DTSTART:20221106T060000
END:STANDARD
BEGIN:DAYLIGHT
TZOFFSETFROM:-0500
TZOFFSETTO:-0400
TZNAME:EDT
DTSTART:20230312T070000
END:DAYLIGHT
BEGIN:STANDARD
TZOFFSETFROM:-0400
TZOFFSETTO:-0500
TZNAME:EST
DTSTART:20231105T060000
END:STANDARD
BEGIN:DAYLIGHT
TZOFFSETFROM:-0500
TZOFFSETTO:-0400
TZNAME:EDT
DTSTART:20240310T070000
END:DAYLIGHT
BEGIN:STANDARD
TZOFFSETFROM:-0400
TZOFFSETTO:-0500
TZNAME:EST
DTSTART:20241103T060000
END:STANDARD
END:VTIMEZONE
BEGIN:VEVENT
DTSTART;TZID=America/Detroit:20231207T200000
DTEND;TZID=America/Detroit:20231207T230000
DTSTAMP:20260420T134738
CREATED:20231014T143341Z
LAST-MODIFIED:20231205T213134Z
UID:10000339-1701979200-1701990000@theark.org
SUMMARY:Ebird & Friends Holiday Show
DESCRIPTION:Celebrating its 16th anniversary\, the Ebird and Friends Holiday Show has become known for connecting audiences with stellar artists in the Michigan music community. Four performances of this festive revue will occur December 7 through 9. Produced by Erin Zindle\, the singer\, songwriter & multi-instrumentalist of Erin Zindle & the Ragbirds\, this concert series has become the most warm-hearted way to begin the holiday season. This unique concert showcases a creative approach to seasonal music\, with old chestnuts\, deep cuts\, and original tunes from a wide range of genres and traditions. These songs bring us in from the cold and connect us in the spirit of the season. \nThis year’s lineup features Erin Zindle & The Ragbirds\, Thornetta Davis\, Louie Lee\, Grace Theisen\, Dylan Charles\, John “T-Bone” Paxton\, Jen Sygit\, Jess Merritt\, Aaron Jonah Lewis\, Brad Phillips\, TJ Zindle\, Ross Huff\, Brennan Andes\, Tim Haldeman\, Loren Kranz\, Shannon Wade\, Dan Piccolo\, Jon Brown\, Jona Vibrato\, and Master of Ceremonies Shelly Smith.
URL:https://theark.org/event/ebird-friends-holiday-show-231207/
LOCATION:The Ark\, 316 S. Main\, Ann Arbor\, MI\, 48104\, United States
CATEGORIES:Low Ticket Alert
ATTACH;FMTTYPE=image/png:https://theark.org/wp-content/uploads/2023/10/2023-Ebird.png
END:VEVENT
END:VCALENDAR