BEGIN:VCALENDAR
VERSION:2.0
PRODID:-//The Ark - ECPv6.15.20//NONSGML v1.0//EN
CALSCALE:GREGORIAN
METHOD:PUBLISH
X-WR-CALNAME:The Ark
X-ORIGINAL-URL:https://theark.org
X-WR-CALDESC:Events for The Ark
REFRESH-INTERVAL;VALUE=DURATION:PT1H
X-Robots-Tag:noindex
X-PUBLISHED-TTL:PT1H
BEGIN:VTIMEZONE
TZID:America/Detroit
BEGIN:DAYLIGHT
TZOFFSETFROM:-0500
TZOFFSETTO:-0400
TZNAME:EDT
DTSTART:20220313T070000
END:DAYLIGHT
BEGIN:STANDARD
TZOFFSETFROM:-0400
TZOFFSETTO:-0500
TZNAME:EST
DTSTART:20221106T060000
END:STANDARD
BEGIN:DAYLIGHT
TZOFFSETFROM:-0500
TZOFFSETTO:-0400
TZNAME:EDT
DTSTART:20230312T070000
END:DAYLIGHT
BEGIN:STANDARD
TZOFFSETFROM:-0400
TZOFFSETTO:-0500
TZNAME:EST
DTSTART:20231105T060000
END:STANDARD
BEGIN:DAYLIGHT
TZOFFSETFROM:-0500
TZOFFSETTO:-0400
TZNAME:EDT
DTSTART:20240310T070000
END:DAYLIGHT
BEGIN:STANDARD
TZOFFSETFROM:-0400
TZOFFSETTO:-0500
TZNAME:EST
DTSTART:20241103T060000
END:STANDARD
END:VTIMEZONE
BEGIN:VEVENT
DTSTART;TZID=America/Detroit:20231202T200000
DTEND;TZID=America/Detroit:20231202T230000
DTSTAMP:20260420T134622
CREATED:20230727T130029Z
LAST-MODIFIED:20230727T130029Z
UID:10000267-1701547200-1701558000@theark.org
SUMMARY:The Empty Pockets
DESCRIPTION:The Empty Pockets ignite a bright flame by harnessing a joyful friction between Americana\, folk\, and rock ’n’ roll spiked with roots soul. The Chicago quartet—Josh Solomon (guitar\, vocals)\, Erika Brett (keyboards\, vocals)\, Nate Bellon (bass\, vocals)\, and Adam Balasco (drums)—lean on an unspoken\, yet airtight musical dialogue honed by countless miles on the road\, performances alongside the likes of Kenny Loggins\, a procession of fan favorite releases (including a #1 debut)\, and a wealth of memories together. They come to Michigan with a new release\, “Gotta Find the Moon.”
URL:https://theark.org/event/the-empty-pockets-231202/
LOCATION:The Ark\, 316 S. Main\, Ann Arbor\, MI\, 48104\, United States
ATTACH;FMTTYPE=image/jpeg:https://theark.org/wp-content/uploads/2023/07/theemptypockets-gracecoudalphotography-1-1.jpg
END:VEVENT
END:VCALENDAR