BEGIN:VCALENDAR
VERSION:2.0
PRODID:-//The Ark - ECPv6.15.20//NONSGML v1.0//EN
CALSCALE:GREGORIAN
METHOD:PUBLISH
X-WR-CALNAME:The Ark
X-ORIGINAL-URL:https://theark.org
X-WR-CALDESC:Events for The Ark
REFRESH-INTERVAL;VALUE=DURATION:PT1H
X-Robots-Tag:noindex
X-PUBLISHED-TTL:PT1H
BEGIN:VTIMEZONE
TZID:America/Detroit
BEGIN:DAYLIGHT
TZOFFSETFROM:-0500
TZOFFSETTO:-0400
TZNAME:EDT
DTSTART:20220313T070000
END:DAYLIGHT
BEGIN:STANDARD
TZOFFSETFROM:-0400
TZOFFSETTO:-0500
TZNAME:EST
DTSTART:20221106T060000
END:STANDARD
BEGIN:DAYLIGHT
TZOFFSETFROM:-0500
TZOFFSETTO:-0400
TZNAME:EDT
DTSTART:20230312T070000
END:DAYLIGHT
BEGIN:STANDARD
TZOFFSETFROM:-0400
TZOFFSETTO:-0500
TZNAME:EST
DTSTART:20231105T060000
END:STANDARD
BEGIN:DAYLIGHT
TZOFFSETFROM:-0500
TZOFFSETTO:-0400
TZNAME:EDT
DTSTART:20240310T070000
END:DAYLIGHT
BEGIN:STANDARD
TZOFFSETFROM:-0400
TZOFFSETTO:-0500
TZNAME:EST
DTSTART:20241103T060000
END:STANDARD
END:VTIMEZONE
BEGIN:VEVENT
DTSTART;TZID=America/Detroit:20231201T200000
DTEND;TZID=America/Detroit:20231201T230000
DTSTAMP:20260420T192625
CREATED:20231014T142010Z
LAST-MODIFIED:20240729T205217Z
UID:10000335-1701460800-1701471600@theark.org
SUMMARY:Adam Plomaritas
DESCRIPTION:Adam Plomaritas effortlessly arrives at the seamless intersection of sophisticated rock\, country\, and soul. The Ypsilanti\, Michigan–based singer-songwriter and multi-instrumentalist intricately fuses a warm\, bluesy trinity of sound across his thoughtful\, intimate catalog. With hints of Michael McDonald\, Amos Lee\, and Ray Charles\, Adam wraps listeners in a soothing\, genre-defying embrace. His emotive vocals\, hypnotic instrumentation\, and introspective tales provide a comforting reassurance about overcoming challenges in life and love. Plomaritas is preparing for the upcoming release of his long awaited new EP\, “Old Time Love” which is due out December 1\, 2023.  \nSinger-songwriter Kylee Phillips opens.
URL:https://theark.org/event/adam-plomaritas-231201/
LOCATION:The Ark\, 316 S. Main\, Ann Arbor\, MI\, 48104\, United States
ATTACH;FMTTYPE=image/jpeg:https://theark.org/wp-content/uploads/2023/10/Adam-Plomaritas-23.jpg
END:VEVENT
END:VCALENDAR