BEGIN:VCALENDAR
VERSION:2.0
PRODID:-//The Ark - ECPv6.15.20//NONSGML v1.0//EN
CALSCALE:GREGORIAN
METHOD:PUBLISH
X-WR-CALNAME:The Ark
X-ORIGINAL-URL:https://theark.org
X-WR-CALDESC:Events for The Ark
REFRESH-INTERVAL;VALUE=DURATION:PT1H
X-Robots-Tag:noindex
X-PUBLISHED-TTL:PT1H
BEGIN:VTIMEZONE
TZID:America/Detroit
BEGIN:DAYLIGHT
TZOFFSETFROM:-0500
TZOFFSETTO:-0400
TZNAME:EDT
DTSTART:20220313T070000
END:DAYLIGHT
BEGIN:STANDARD
TZOFFSETFROM:-0400
TZOFFSETTO:-0500
TZNAME:EST
DTSTART:20221106T060000
END:STANDARD
BEGIN:DAYLIGHT
TZOFFSETFROM:-0500
TZOFFSETTO:-0400
TZNAME:EDT
DTSTART:20230312T070000
END:DAYLIGHT
BEGIN:STANDARD
TZOFFSETFROM:-0400
TZOFFSETTO:-0500
TZNAME:EST
DTSTART:20231105T060000
END:STANDARD
BEGIN:DAYLIGHT
TZOFFSETFROM:-0500
TZOFFSETTO:-0400
TZNAME:EDT
DTSTART:20240310T070000
END:DAYLIGHT
BEGIN:STANDARD
TZOFFSETFROM:-0400
TZOFFSETTO:-0500
TZNAME:EST
DTSTART:20241103T060000
END:STANDARD
END:VTIMEZONE
BEGIN:VEVENT
DTSTART;TZID=America/Detroit:20231130T200000
DTEND;TZID=America/Detroit:20231130T230000
DTSTAMP:20260422T063617
CREATED:20230720T130046Z
LAST-MODIFIED:20231018T165115Z
UID:10000261-1701374400-1701385200@theark.org
SUMMARY:Brain Plasticity Ukulele Collective and BLUESHOUSE!
DESCRIPTION:Brain Plasticity Ukulele Collective is an open community of musicians playing at all levels and abilities. Ukes? Well\, it’s more like 30 different instruments. Plasticity? Yes! The Brain Plasticity Ukulele Collective believes that by sharing music and learning how to play a new instrument\, you can: “Drop a brain bomb. Fire up the synapses. Rewire some neural pathways.” And BLUESHOUSE!\, led by veteran English bluesman Mike Brooks\, has enlivened countless stages and street parties around southeast Michigan over the last decade. Join us for a combination that will stretch your brain!
URL:https://theark.org/event/brain-plasticity-ukulele-collective-and-blueshouse-231130/
LOCATION:The Ark\, 316 S. Main\, Ann Arbor\, MI\, 48104\, United States
ATTACH;FMTTYPE=image/jpeg:https://theark.org/wp-content/uploads/2023/07/ark-poster-nov-z-2023-003.jpg
END:VEVENT
END:VCALENDAR