BEGIN:VCALENDAR
VERSION:2.0
PRODID:-//The Ark - ECPv6.15.20//NONSGML v1.0//EN
CALSCALE:GREGORIAN
METHOD:PUBLISH
X-ORIGINAL-URL:https://theark.org
X-WR-CALDESC:Events for The Ark
REFRESH-INTERVAL;VALUE=DURATION:PT1H
X-Robots-Tag:noindex
X-PUBLISHED-TTL:PT1H
BEGIN:VTIMEZONE
TZID:America/Detroit
BEGIN:DAYLIGHT
TZOFFSETFROM:-0500
TZOFFSETTO:-0400
TZNAME:EDT
DTSTART:20220313T070000
END:DAYLIGHT
BEGIN:STANDARD
TZOFFSETFROM:-0400
TZOFFSETTO:-0500
TZNAME:EST
DTSTART:20221106T060000
END:STANDARD
BEGIN:DAYLIGHT
TZOFFSETFROM:-0500
TZOFFSETTO:-0400
TZNAME:EDT
DTSTART:20230312T070000
END:DAYLIGHT
BEGIN:STANDARD
TZOFFSETFROM:-0400
TZOFFSETTO:-0500
TZNAME:EST
DTSTART:20231105T060000
END:STANDARD
BEGIN:DAYLIGHT
TZOFFSETFROM:-0500
TZOFFSETTO:-0400
TZNAME:EDT
DTSTART:20240310T070000
END:DAYLIGHT
BEGIN:STANDARD
TZOFFSETFROM:-0400
TZOFFSETTO:-0500
TZNAME:EST
DTSTART:20241103T060000
END:STANDARD
END:VTIMEZONE
BEGIN:VEVENT
DTSTART;TZID=America/Detroit:20231128T200000
DTEND;TZID=America/Detroit:20231128T230000
DTSTAMP:20260420T152917
CREATED:20230627T130719Z
LAST-MODIFIED:20231115T183001Z
UID:10000259-1701201600-1701212400@theark.org
SUMMARY:Geneviève Racette
DESCRIPTION:Quebec folk-pop musician Geneviève Racette has captivated listeners with her gentle\, yet compelling\, emotional resonance\, and garnered impressive industry support for her folk-pop tracks ever since her first EP in 2014. Through her vulnerable lyricism and ethereal vocals\, Geneviève has emerged as a rising star in both French and English-speaking Canadian music scenes. The trajectory for Geneviève’s career has been on a tremendous incline since her album “No Water\, No Flowers” catapulted her from Quebec recognition to national praise\, including a Canadian Folk Music Award\, performing on stage with City and Colour\, rave reviews from media\, music publications and blogs\, and tracking on multiple radio stations right across Canada. As a woman in music\, it is essential to Geneviève that she surrounds herself with like-minded females in the industry. She is proud that over half her team involved in the creation of her latest album\, “Satellite\,” are female musicians and members of the industry. Come and hear a songwriter that a lot of people are soon going to be talking about south of the border! \nThe Ark’s Artist Spotlight Series is made possible with support from the Ford Motor Company Fund. It is presented live\, and also livestreamed on The Ark’s Facebook page.   \nThis is a FREE show. Nonperishables accepted for Food Gatherers.\nAdditional support provided by Québec Government Office in Chicago
URL:https://theark.org/event/genevieve-racette-231128/
LOCATION:The Ark\, 316 S. Main\, Ann Arbor\, MI\, 48104\, United States
CATEGORIES:Artist Spotlight Series,Live and Virtual
ATTACH;FMTTYPE=image/jpeg:https://theark.org/wp-content/uploads/2023/06/NEW-Genevieve-Racette-Press-Photo-Landscape-Cred_-Eva-Maude-TC-web.jpg
END:VEVENT
END:VCALENDAR