BEGIN:VCALENDAR
VERSION:2.0
PRODID:-//The Ark - ECPv6.15.20//NONSGML v1.0//EN
CALSCALE:GREGORIAN
METHOD:PUBLISH
X-WR-CALNAME:The Ark
X-ORIGINAL-URL:https://theark.org
X-WR-CALDESC:Events for The Ark
REFRESH-INTERVAL;VALUE=DURATION:PT1H
X-Robots-Tag:noindex
X-PUBLISHED-TTL:PT1H
BEGIN:VTIMEZONE
TZID:America/Detroit
BEGIN:DAYLIGHT
TZOFFSETFROM:-0500
TZOFFSETTO:-0400
TZNAME:EDT
DTSTART:20220313T070000
END:DAYLIGHT
BEGIN:STANDARD
TZOFFSETFROM:-0400
TZOFFSETTO:-0500
TZNAME:EST
DTSTART:20221106T060000
END:STANDARD
BEGIN:DAYLIGHT
TZOFFSETFROM:-0500
TZOFFSETTO:-0400
TZNAME:EDT
DTSTART:20230312T070000
END:DAYLIGHT
BEGIN:STANDARD
TZOFFSETFROM:-0400
TZOFFSETTO:-0500
TZNAME:EST
DTSTART:20231105T060000
END:STANDARD
BEGIN:DAYLIGHT
TZOFFSETFROM:-0500
TZOFFSETTO:-0400
TZNAME:EDT
DTSTART:20240310T070000
END:DAYLIGHT
BEGIN:STANDARD
TZOFFSETFROM:-0400
TZOFFSETTO:-0500
TZNAME:EST
DTSTART:20241103T060000
END:STANDARD
END:VTIMEZONE
BEGIN:VEVENT
DTSTART;TZID=America/Detroit:20231127T183000
DTEND;TZID=America/Detroit:20231127T230000
DTSTAMP:20260420T082141
CREATED:20231108T142111Z
LAST-MODIFIED:20231108T144404Z
UID:10000396-1701109800-1701126000@theark.org
SUMMARY:The Ark Annual Membership Meeting
DESCRIPTION:Become a Member \nThe Ark will hold the Annual Meeting of its Members on Monday\, November 27 at 6:30 pm. This year’s Annual Meeting will be held virtually by Zoom. At this meeting\, the Membership will hear about the current state of The Ark and conduct any membership-related business that may come before the group. \nAll current Annual Members and anyone who has become an Introductory Member since September 1\, 2022 are eligible to attend. You must pre-register by email to receive a link to attend the meeting. An invitation will be sent in mid November to all eligible members who provided us with an email address and permission to use it. \nIf you do not receive an email invitation by November 20\, 2023\, and would like to attend\, please contact Annual Giving Manager Tom Stoll at tom@theark.org.
URL:https://theark.org/event/the-ark-annual-membership-meeting-231127/
LOCATION:MI
ATTACH;FMTTYPE=image/jpeg:https://theark.org/wp-content/uploads/2023/11/Ark-Entrance-web-photocredit-JenniferPatselas.jpg
END:VEVENT
END:VCALENDAR