BEGIN:VCALENDAR
VERSION:2.0
PRODID:-//The Ark - ECPv6.15.20//NONSGML v1.0//EN
CALSCALE:GREGORIAN
METHOD:PUBLISH
X-ORIGINAL-URL:https://theark.org
X-WR-CALDESC:Events for The Ark
REFRESH-INTERVAL;VALUE=DURATION:PT1H
X-Robots-Tag:noindex
X-PUBLISHED-TTL:PT1H
BEGIN:VTIMEZONE
TZID:America/Detroit
BEGIN:DAYLIGHT
TZOFFSETFROM:-0500
TZOFFSETTO:-0400
TZNAME:EDT
DTSTART:20220313T070000
END:DAYLIGHT
BEGIN:STANDARD
TZOFFSETFROM:-0400
TZOFFSETTO:-0500
TZNAME:EST
DTSTART:20221106T060000
END:STANDARD
BEGIN:DAYLIGHT
TZOFFSETFROM:-0500
TZOFFSETTO:-0400
TZNAME:EDT
DTSTART:20230312T070000
END:DAYLIGHT
BEGIN:STANDARD
TZOFFSETFROM:-0400
TZOFFSETTO:-0500
TZNAME:EST
DTSTART:20231105T060000
END:STANDARD
BEGIN:DAYLIGHT
TZOFFSETFROM:-0500
TZOFFSETTO:-0400
TZNAME:EDT
DTSTART:20240310T070000
END:DAYLIGHT
BEGIN:STANDARD
TZOFFSETFROM:-0400
TZOFFSETTO:-0500
TZNAME:EST
DTSTART:20241103T060000
END:STANDARD
END:VTIMEZONE
BEGIN:VEVENT
DTSTART;TZID=America/Detroit:20231126T130000
DTEND;TZID=America/Detroit:20231126T143000
DTSTAMP:20260420T154007
CREATED:20231014T140627Z
LAST-MODIFIED:20231014T215810Z
UID:10000330-1701003600-1701009000@theark.org
SUMMARY:Gemini
DESCRIPTION:Gemini is the much-loved duo of Sandor and Laszlo Slomovits. They’ve been performing since 1973 and are now playing music for the third—or is it fourth?—generation of young fans and families. They write and perform acoustic music for children and families\, celebrating with their audiences the warmth\, fun\, and joy of family life. A Gemini concert is a kinetic event\, filled with rousing singalongs\, hand motion tunes\, folk tales\, and music from around the world. “If the Pied Piper had been twins\, chances are he would have been Gemini\,” says the Detroit News. Since 1979 San and Laz have released numerous recordings for adults and children and families. These recordings have won a number of awards including ones from Parents’ Choice Magazine\, the American Library Association\, the National Parenting Publications (NAPPA)\, and the Wolf Trap Institute for Early Learning Through the Arts. This is Gemini’s first live show at The Ark since the pandemic\, and it features Brian Brill on piano. The concert benefits Mott Children’s Hospital.  \nIn the spirit of Thanksgiving\, with this concert Gemini will also be supporting https://www.foodgatherers.org/. Feel free to bring non-perishable food items to donate\, as well as personal care items and household supplies like paper towels\, diapers and cleaning products. And thank you!
URL:https://theark.org/event/gemini-231126/
LOCATION:The Ark\, 316 S. Main\, Ann Arbor\, MI\, 48104\, United States
ATTACH;FMTTYPE=image/jpeg:https://theark.org/wp-content/uploads/2023/10/Gemini-2023-1.jpg
END:VEVENT
BEGIN:VEVENT
DTSTART;TZID=America/Detroit:20231126T193000
DTEND;TZID=America/Detroit:20231126T230000
DTSTAMP:20260420T154007
CREATED:20230717T120053Z
LAST-MODIFIED:20231120T193105Z
UID:10000260-1701027000-1701039600@theark.org
SUMMARY:Crash Test Dummies
DESCRIPTION:In November the Crash Test Dummies will bring their never-before-toured holiday release to Canadian and American audiences. \nThe record\, released in 2002 and recorded at the world famous “The Magic Shop” in New York City was best described by prominent American journalist Maron Keller. \n“There’s more than a bit of delightful holiday camp and irony afoot in the Crash Test Dummies’ Jingle All the Way collection\, from Brad Roberts’ slow-mo delivery of “White Christmas”–with its heavy Hammond Organ–to Ellen Reid’s Patsy Cline take of “O Little Town of Bethlehem\,” done in a convincing country-western style complete with pedal steel guitar. Still\, there’s serious business in the group’s take on “We Three Kings” with the genuine Oriental influence of Ming Xioo-Fen’s pipa playing\, and Reid’s readings of the traditional songs “The Huron Carol” and “In The Bleak Midwinter” are as reverent as standard Christmas songs get. Roberts’ basso profoundo\, on the other hand\, is an acquired taste and he puts it to wickedly good use in “Jingle Bells\,” which is delivered like a medieval chant or rugby cry that’s certain to put the fear in jolly old St. Nick.” The dynamic and engaging stage show will feature original members Brad Roberts\, Ellen Reid\, Dan Roberts and Mitch Dorge who will be joined as always by Stuart Cameron and relative newcomer\, Leith Fleming-Smith\, delivering songs from Jingle All The Way along with some of the bands greatest hits! \n“Jingle All The Way” will be available on vinyl for the first time and will be made available on streaming services.
URL:https://theark.org/event/crash-test-dummies-231126/
LOCATION:The Ark\, 316 S. Main\, Ann Arbor\, MI\, 48104\, United States
ATTACH;FMTTYPE=image/jpeg:https://theark.org/wp-content/uploads/2023/07/Crash-Test-Dummies-Jingle-all-the-way.jpg
END:VEVENT
END:VCALENDAR