BEGIN:VCALENDAR
VERSION:2.0
PRODID:-//The Ark - ECPv6.15.20//NONSGML v1.0//EN
CALSCALE:GREGORIAN
METHOD:PUBLISH
X-WR-CALNAME:The Ark
X-ORIGINAL-URL:https://theark.org
X-WR-CALDESC:Events for The Ark
REFRESH-INTERVAL;VALUE=DURATION:PT1H
X-Robots-Tag:noindex
X-PUBLISHED-TTL:PT1H
BEGIN:VTIMEZONE
TZID:America/Detroit
BEGIN:DAYLIGHT
TZOFFSETFROM:-0500
TZOFFSETTO:-0400
TZNAME:EDT
DTSTART:20220313T070000
END:DAYLIGHT
BEGIN:STANDARD
TZOFFSETFROM:-0400
TZOFFSETTO:-0500
TZNAME:EST
DTSTART:20221106T060000
END:STANDARD
BEGIN:DAYLIGHT
TZOFFSETFROM:-0500
TZOFFSETTO:-0400
TZNAME:EDT
DTSTART:20230312T070000
END:DAYLIGHT
BEGIN:STANDARD
TZOFFSETFROM:-0400
TZOFFSETTO:-0500
TZNAME:EST
DTSTART:20231105T060000
END:STANDARD
BEGIN:DAYLIGHT
TZOFFSETFROM:-0500
TZOFFSETTO:-0400
TZNAME:EDT
DTSTART:20240310T070000
END:DAYLIGHT
BEGIN:STANDARD
TZOFFSETFROM:-0400
TZOFFSETTO:-0500
TZNAME:EST
DTSTART:20241103T060000
END:STANDARD
END:VTIMEZONE
BEGIN:VEVENT
DTSTART;TZID=America/Detroit:20231119T193000
DTEND;TZID=America/Detroit:20231119T230000
DTSTAMP:20260420T114022
CREATED:20230609T140019Z
LAST-MODIFIED:20231014T213751Z
UID:10000253-1700422200-1700434800@theark.org
SUMMARY:David Cook
DESCRIPTION:David Cook (and yes\, the same David Cook who launched into stardom following his American Idol Season Seven win – breaking several Billboard chart records when 14 of his songs debuted on the Hot Digital Songs chart and 11 of his songs debuted on the Hot 100) certainly knows his way around a good song. His first album\, “Analog Heart\,” came out pre-Idol\, and his last album\, “Digital Vein\,” nicely bookended that chapter of Cook’s career\, a chapter during which he sold more than two million albums (including his platinum-certified eponymous album) and\, collectively\, more than five million tracks (including two platinum-certified singles) worldwide. \nDavid continues to find success\, not only for himself\, but also as a writer for other artists and touring throughout the world. In April 2022\, David released his latest single\, “TABOS” (This’ll All Be Over Soon). The single’s release coincided with his return to the American Idol® stage to perform for their special 20th-anniversary reunion show. 
URL:https://theark.org/event/david-cook-231119/
LOCATION:The Ark\, 316 S. Main\, Ann Arbor\, MI\, 48104\, United States
ATTACH;FMTTYPE=image/jpeg:https://theark.org/wp-content/uploads/2023/06/DavidCook2byJakeHarshPhotography-scaled-1.jpg
END:VEVENT
END:VCALENDAR