BEGIN:VCALENDAR
VERSION:2.0
PRODID:-//The Ark - ECPv6.15.20//NONSGML v1.0//EN
CALSCALE:GREGORIAN
METHOD:PUBLISH
X-ORIGINAL-URL:https://theark.org
X-WR-CALDESC:Events for The Ark
REFRESH-INTERVAL;VALUE=DURATION:PT1H
X-Robots-Tag:noindex
X-PUBLISHED-TTL:PT1H
BEGIN:VTIMEZONE
TZID:America/Detroit
BEGIN:DAYLIGHT
TZOFFSETFROM:-0500
TZOFFSETTO:-0400
TZNAME:EDT
DTSTART:20220313T070000
END:DAYLIGHT
BEGIN:STANDARD
TZOFFSETFROM:-0400
TZOFFSETTO:-0500
TZNAME:EST
DTSTART:20221106T060000
END:STANDARD
BEGIN:DAYLIGHT
TZOFFSETFROM:-0500
TZOFFSETTO:-0400
TZNAME:EDT
DTSTART:20230312T070000
END:DAYLIGHT
BEGIN:STANDARD
TZOFFSETFROM:-0400
TZOFFSETTO:-0500
TZNAME:EST
DTSTART:20231105T060000
END:STANDARD
BEGIN:DAYLIGHT
TZOFFSETFROM:-0500
TZOFFSETTO:-0400
TZNAME:EDT
DTSTART:20240310T070000
END:DAYLIGHT
BEGIN:STANDARD
TZOFFSETFROM:-0400
TZOFFSETTO:-0500
TZNAME:EST
DTSTART:20241103T060000
END:STANDARD
END:VTIMEZONE
BEGIN:VEVENT
DTSTART;TZID=America/Detroit:20231116T200000
DTEND;TZID=America/Detroit:20231116T230000
DTSTAMP:20260423T022341
CREATED:20231014T134229Z
LAST-MODIFIED:20231014T213518Z
UID:10000320-1700164800-1700175600@theark.org
SUMMARY:The Moxie Strings "That's a Wrap!" Tour
DESCRIPTION:Hailed by the Grand Rapids Press for “top-notch instrumental wizardry\,” The Moxie Strings offer listeners the unique opportunity to experience some of the world’s best-known instruments through a young\, progressive lens. Diana Ladio and Alison Lynn hold Bachelor of Music degrees in music performance\, which have given them a technical foundation for exploration. The Moxie Strings compose the majority of their pieces and arrange melodies from many traditions\, resulting in a genre-blurring blend of ear-catching melodies and foot-stomping\, rock-influenced rhythms. Alison performs on electric cello\, and Diana on a contemporary five-string violin\, both through a variety of audio effects pedals. Their polished\, high-energy show and unique sound have quickly made The Moxie Strings one of the country’s leading instrumental acts\, and they even topped Billboard’s Classical Crossover chart last year. The Moxie Strings are going on hiatus\, so don’t miss this chance to see them one last time.
URL:https://theark.org/event/the-moxie-strings-thats-a-wrap-tour-231116/
LOCATION:The Ark\, 316 S. Main\, Ann Arbor\, MI\, 48104\, United States
ATTACH;FMTTYPE=image/jpeg:https://theark.org/wp-content/uploads/2023/10/Moxie-Strings-23.jpg
END:VEVENT
END:VCALENDAR