BEGIN:VCALENDAR
VERSION:2.0
PRODID:-//The Ark - ECPv6.15.20//NONSGML v1.0//EN
CALSCALE:GREGORIAN
METHOD:PUBLISH
X-WR-CALNAME:The Ark
X-ORIGINAL-URL:https://theark.org
X-WR-CALDESC:Events for The Ark
REFRESH-INTERVAL;VALUE=DURATION:PT1H
X-Robots-Tag:noindex
X-PUBLISHED-TTL:PT1H
BEGIN:VTIMEZONE
TZID:America/Detroit
BEGIN:DAYLIGHT
TZOFFSETFROM:-0500
TZOFFSETTO:-0400
TZNAME:EDT
DTSTART:20220313T070000
END:DAYLIGHT
BEGIN:STANDARD
TZOFFSETFROM:-0400
TZOFFSETTO:-0500
TZNAME:EST
DTSTART:20221106T060000
END:STANDARD
BEGIN:DAYLIGHT
TZOFFSETFROM:-0500
TZOFFSETTO:-0400
TZNAME:EDT
DTSTART:20230312T070000
END:DAYLIGHT
BEGIN:STANDARD
TZOFFSETFROM:-0400
TZOFFSETTO:-0500
TZNAME:EST
DTSTART:20231105T060000
END:STANDARD
BEGIN:DAYLIGHT
TZOFFSETFROM:-0500
TZOFFSETTO:-0400
TZNAME:EDT
DTSTART:20240310T070000
END:DAYLIGHT
BEGIN:STANDARD
TZOFFSETFROM:-0400
TZOFFSETTO:-0500
TZNAME:EST
DTSTART:20241103T060000
END:STANDARD
END:VTIMEZONE
BEGIN:VEVENT
DTSTART;TZID=America/Detroit:20231112T180000
DTEND;TZID=America/Detroit:20231112T230000
DTSTAMP:20260421T055956
CREATED:20230327T160054Z
LAST-MODIFIED:20230327T160054Z
UID:10000249-1699812000-1699830000@theark.org
SUMMARY:Croce Plays Croce 50th Anniversary Tour
DESCRIPTION:A.J. Croce has been a staple of the Americana\, AAA\, Blues\, Top 40 and other charts throughout his own stellar career\, releasing ten studio albums that effortlessly transcend multiple genres and have had 20 songs chart in the Top 20 on various radio charts. However\, the 50th Anniversary Celebration of You Don’t Mess Around With Jim has prompted the most affectionate look back yet at his father’s enduring legacy.  The renewed interest leading up to the celebration of the classic album (which was recorded for only $18\,000 and spent an incredible 93 weeks on the charts) has inspired a special version of A.J.’s popular ‘Croce Plays Croce’ concert series. \nA.J. crisscrossed the country in 2021 with this unique concert experience to sold out shows and rave reviews: ‘As a considerate tribute\, Croce Plays Croce covered just about everything a fan could expect. With A.J.’s stories and sentiment\, though\, it was elevated beyond a mere musical homage. Instead\, the evening felt more like a family reunion.’ – Live Music News & Review \nThis special 50th Anniversary performance promises A.J.’s unique interpretation of Jim’s iconic You Don’t Mess Around With Jim album with a full band and visual presentation of the songs\, including indelible hits\, “Operator (That’s Not The Way It Feels’)\, “Time In A Bottle\,” and others. \nJim Croce found long-overdue success in 1972 following years of struggling to make a name in the music business. That year he released his debut album\, You Don’t Mess Around With Jim\, which topped the Billboard Album chart for more than a month\, spawning the hit singles “You Don’t Mess Around With Jim\,” “Operator (That’s Not the Way It Feels)\,” and “Time in a Bottle”. His final studio effort\, I’ve Got a Name\, was released just after he passed in Fall of 1973\, ten days after his death. Three more hits (“Workin’ at the Car Wash Blues\,” “I’ll Have to Say I Love You in a Song” and the title song) came from that album\, which reached #2 in the album charts. His records earned three #1’s and ten Top 10’s. His three classic albums (including Life and Times) amazingly were recorded in just a one-and-a-half-year period. Jim Croce was just thirty when he died but helped christen the singer/songwriter era of the early 70s\, influencing generations of great songwriters to come.  He has achieved unprecedented record sales for a working-class\, solo ‘folk’ artist including The Songwriter’s Hall of Fame induction\, surpassing the 50 million sales mark (worldwide) with his memorable self-penned tunes gracing more than 375 compilations. His music continues to be included in major films\, TV shows\, and commercials including Apple’s Siri Ad\, Tarantino’s Django Unchained\, the X-Men franchise\, Netflix’s Stranger Things and currently in George Clooney’s The Tender Bar. \nA.J. was only two years old when his father was killed in a tragic airplane crash in 1973\, but came to love and appreciate his dad’s blue-collar\, empathetic wordplay and irresistible melodies\, “just like everyone else…by listening to the albums\,” says A.J. The younger Croce never performed his dad’s song live until he came across a batch of old covers Jim Croce recorded of classic and obscure blues and folk songs\, including work by Fats Waller\, Bessie Smith\, and Pink Anderson.  “I was amazed to discover he was into stuff I was playing myself\,” says A.J. The revelation eventually led the singer to conceive the ‘Croce Plays Croce’ concert experience where he delves into both artists’ mesmerizing work\, their shared influences and career paths. \nAs the respected online music database AllMusic states in its comprehensive biography of A.J.’s legendary father: ‘Listening to the songs Croce recorded\, one cannot help but wonder how far his extraordinary talents could have taken him if he would have lived longer.’  His son A.J. not only appropriately honors his father’s legacy\, but further illuminates the power of the Croce pedigree with an iconic identity all his own.
URL:https://theark.org/event/croce-plays-croce-231112/
LOCATION:Royal Oak Music Theatre\, 318 W 4th St\, Royal Oak\, MI\, 48067\, United States
CATEGORIES:Special Event
ATTACH;FMTTYPE=image/png:https://theark.org/wp-content/uploads/2023/03/AJ-Croce-Jim-Croce-1.png
END:VEVENT
BEGIN:VEVENT
DTSTART;TZID=America/Detroit:20231112T193000
DTEND;TZID=America/Detroit:20231112T230000
DTSTAMP:20260421T055956
CREATED:20230615T130034Z
LAST-MODIFIED:20231014T212733Z
UID:10000255-1699817400-1699830000@theark.org
SUMMARY:John McCutcheon
DESCRIPTION:John McCutcheon’s art grew out of his absolute mastery of American traditional music and instruments. He’s a legend of the guitar\, the hammered dulcimer\, and several other instruments\, and a prolific songwriter\, and there’s nobody more qualified to own the folkmusic.com domain name! The result is a body of classic American song\, rooted in the best our musical tradition has to offer. John McCutcheon is a voice for peace\, a community organizer\, a writer\, a literacy campaigner\, and a performer who has packed concert halls on four continents. The Washington Post calls John’s concerts “little feats of magic\,” and as a storyteller he’s been compared with Garrison Keillor—and\, even better than that\, Will Rogers. John comes to Michigan with a new release\, his 43rd\, “Leap!”
URL:https://theark.org/event/john-mccutcheon-231112/
LOCATION:The Ark\, 316 S. Main\, Ann Arbor\, MI\, 48104\, United States
ATTACH;FMTTYPE=image/jpeg:https://theark.org/wp-content/uploads/2021/10/John-McCutcheon_by-Irene-Young-web.jpg
END:VEVENT
END:VCALENDAR