BEGIN:VCALENDAR
VERSION:2.0
PRODID:-//The Ark - ECPv6.15.20//NONSGML v1.0//EN
CALSCALE:GREGORIAN
METHOD:PUBLISH
X-ORIGINAL-URL:https://theark.org
X-WR-CALDESC:Events for The Ark
REFRESH-INTERVAL;VALUE=DURATION:PT1H
X-Robots-Tag:noindex
X-PUBLISHED-TTL:PT1H
BEGIN:VTIMEZONE
TZID:America/Detroit
BEGIN:DAYLIGHT
TZOFFSETFROM:-0500
TZOFFSETTO:-0400
TZNAME:EDT
DTSTART:20220313T070000
END:DAYLIGHT
BEGIN:STANDARD
TZOFFSETFROM:-0400
TZOFFSETTO:-0500
TZNAME:EST
DTSTART:20221106T060000
END:STANDARD
BEGIN:DAYLIGHT
TZOFFSETFROM:-0500
TZOFFSETTO:-0400
TZNAME:EDT
DTSTART:20230312T070000
END:DAYLIGHT
BEGIN:STANDARD
TZOFFSETFROM:-0400
TZOFFSETTO:-0500
TZNAME:EST
DTSTART:20231105T060000
END:STANDARD
BEGIN:DAYLIGHT
TZOFFSETFROM:-0500
TZOFFSETTO:-0400
TZNAME:EDT
DTSTART:20240310T070000
END:DAYLIGHT
BEGIN:STANDARD
TZOFFSETFROM:-0400
TZOFFSETTO:-0500
TZNAME:EST
DTSTART:20241103T060000
END:STANDARD
END:VTIMEZONE
BEGIN:VEVENT
DTSTART;TZID=America/Detroit:20231109T200000
DTEND;TZID=America/Detroit:20231109T230000
DTSTAMP:20260421T052614
CREATED:20230803T130054Z
LAST-MODIFIED:20231103T140737Z
UID:10000269-1699560000-1699570800@theark.org
SUMMARY:Antje Duvekot & Joe Crookston
DESCRIPTION:A former Artist-in-Residence at Folk Alliance International\, Joe Crookston of Ithaca\, New York\, is a writer\, singer\, guitar picker\, painter\, clawhammer banjo player\, and believer in all things possible. You’ll be pulled in by the magic and musical world he creates\, and you’ll end up in the moment\, humming and buzzing with the rest of the crowd. He’ll sing to you—you’ll sing with him. He’s plumbing for lyrical gold\, like some kind of social archaeologist. Joe’s story songs are universal\, masterful and his concerts are a grand celebration of all of us. At the end of the night\, you’ll leave inspired\, with a renewed sense of what’s possible.  \nNew England folk institution Ellis Paul has called Antje Duvekot the next great American folk singer-songwriter. Born in Germany\, Antje immigrated to the U.S. as a teen. Following the path of Natalie Merchant\, Dar Williams\, and Patty Griffin\, she developed a sound all her own. The Boston Globe says that her “provocative\, dark-eyed ballads are becoming the talk of the folk world.” Antje is a winner of the prestigious Kerrville Folk Festival’s Best New Folk Award\, and the Boston Music Award for Outstanding Folk Act. \nJoe Crookston and Antje Duvekot are touring in the Midwest in early November performing a creative storytelling collaborative concert called Imagine Nation. \nThey will perform the entire show together on stage\, weaving in and out of harmonies presenting as a duo.
URL:https://theark.org/event/antje-duvekot-joe-crookston-231109/
LOCATION:The Ark\, 316 S. Main\, Ann Arbor\, MI\, 48104\, United States
ATTACH;FMTTYPE=image/jpeg:https://theark.org/wp-content/uploads/2023/08/Antje-Duvekot-Joe-Crookston-1.jpg
END:VEVENT
END:VCALENDAR