BEGIN:VCALENDAR
VERSION:2.0
PRODID:-//The Ark - ECPv6.15.20//NONSGML v1.0//EN
CALSCALE:GREGORIAN
METHOD:PUBLISH
X-ORIGINAL-URL:https://theark.org
X-WR-CALDESC:Events for The Ark
REFRESH-INTERVAL;VALUE=DURATION:PT1H
X-Robots-Tag:noindex
X-PUBLISHED-TTL:PT1H
BEGIN:VTIMEZONE
TZID:America/Detroit
BEGIN:DAYLIGHT
TZOFFSETFROM:-0500
TZOFFSETTO:-0400
TZNAME:EDT
DTSTART:20220313T070000
END:DAYLIGHT
BEGIN:STANDARD
TZOFFSETFROM:-0400
TZOFFSETTO:-0500
TZNAME:EST
DTSTART:20221106T060000
END:STANDARD
BEGIN:DAYLIGHT
TZOFFSETFROM:-0500
TZOFFSETTO:-0400
TZNAME:EDT
DTSTART:20230312T070000
END:DAYLIGHT
BEGIN:STANDARD
TZOFFSETFROM:-0400
TZOFFSETTO:-0500
TZNAME:EST
DTSTART:20231105T060000
END:STANDARD
BEGIN:DAYLIGHT
TZOFFSETFROM:-0500
TZOFFSETTO:-0400
TZNAME:EDT
DTSTART:20240310T070000
END:DAYLIGHT
BEGIN:STANDARD
TZOFFSETFROM:-0400
TZOFFSETTO:-0500
TZNAME:EST
DTSTART:20241103T060000
END:STANDARD
END:VTIMEZONE
BEGIN:VEVENT
DTSTART;TZID=America/Detroit:20231108T200000
DTEND;TZID=America/Detroit:20231108T230000
DTSTAMP:20260421T163524
CREATED:20230803T130006Z
LAST-MODIFIED:20231014T212309Z
UID:10000268-1699473600-1699484400@theark.org
SUMMARY:Bonnie Raitt Birthday Tribute
DESCRIPTION:The music of Bonnie Raitt crosses boundaries between blues\, folk\, rock\, and country\, and she found a deep common denominator. It’s perhaps for that reason that Bonnie continues to be listened to and to influence younger musicians. Tonight’s show features Michigan artists who come together to honor Bonnie Raitt on her 74th. May there be many more! On the bill are Shelly Smith\, bassist Brennan Andres\, vocalist Jess Merritt (of The Understorey)\, jazz singer Heather Black\, and more artists TBA!
URL:https://theark.org/event/bonnie-raitt-birthday-tribute-230708/
LOCATION:The Ark\, 316 S. Main\, Ann Arbor\, MI\, 48104\, United States
ATTACH;FMTTYPE=image/jpeg:https://theark.org/wp-content/uploads/2023/10/Bonnie-Raitt-Birthday-Tribute-Horiz.jpg
END:VEVENT
END:VCALENDAR