BEGIN:VCALENDAR
VERSION:2.0
PRODID:-//The Ark - ECPv6.15.20//NONSGML v1.0//EN
CALSCALE:GREGORIAN
METHOD:PUBLISH
X-ORIGINAL-URL:https://theark.org
X-WR-CALDESC:Events for The Ark
REFRESH-INTERVAL;VALUE=DURATION:PT1H
X-Robots-Tag:noindex
X-PUBLISHED-TTL:PT1H
BEGIN:VTIMEZONE
TZID:America/Detroit
BEGIN:DAYLIGHT
TZOFFSETFROM:-0500
TZOFFSETTO:-0400
TZNAME:EDT
DTSTART:20220313T070000
END:DAYLIGHT
BEGIN:STANDARD
TZOFFSETFROM:-0400
TZOFFSETTO:-0500
TZNAME:EST
DTSTART:20221106T060000
END:STANDARD
BEGIN:DAYLIGHT
TZOFFSETFROM:-0500
TZOFFSETTO:-0400
TZNAME:EDT
DTSTART:20230312T070000
END:DAYLIGHT
BEGIN:STANDARD
TZOFFSETFROM:-0400
TZOFFSETTO:-0500
TZNAME:EST
DTSTART:20231105T060000
END:STANDARD
BEGIN:DAYLIGHT
TZOFFSETFROM:-0500
TZOFFSETTO:-0400
TZNAME:EDT
DTSTART:20240310T070000
END:DAYLIGHT
BEGIN:STANDARD
TZOFFSETFROM:-0400
TZOFFSETTO:-0500
TZNAME:EST
DTSTART:20241103T060000
END:STANDARD
END:VTIMEZONE
BEGIN:VEVENT
DTSTART;TZID=America/Detroit:20231105T193000
DTEND;TZID=America/Detroit:20231105T230000
DTSTAMP:20260420T152936
CREATED:20230612T140038Z
LAST-MODIFIED:20230612T140038Z
UID:10000254-1699212600-1699225200@theark.org
SUMMARY:Mipso
DESCRIPTION:Chapel Hill’s indie Americana quartet Mipso—Jacob Sharp (mandolin\, vocals)\, Wood Robinson (bass\, vocals)\, Joseph Terrell (guitar\, vocals)\, and Libby Rodenbough (fiddle\, vocals)—just keeps growing in reach and was recently signed to the longtime New England folk label Rounder. Influenced by the contradiction of its progressive home and the surrounding rural southern landscapes\, Mipso has been hailed as “hewing surprisingly close to gospel and folk while still sounding modern and secular” (Acoustic Guitar) and was recently recognized by Rolling Stone as an “Artist You Need to Know.” The band brings a unique sound\, full of wistful beauty\, hopeful undercurrents\, and panoramic soundscapes. Venturing ever further from its string-band pedigree to discover a broader Americana where classic folk-rock and modern alt-country sounds mingle easily with Appalachian tradition\, Mipso’s music is lush and forward moving\, with lyrics that sear and salve in turn.
URL:https://theark.org/event/mipso-231105/
LOCATION:The Ark\, 316 S. Main\, Ann Arbor\, MI\, 48104\, United States
ATTACH;FMTTYPE=image/jpeg:https://theark.org/wp-content/uploads/2023/06/Mipso-Black-and-White-1.jpg
END:VEVENT
END:VCALENDAR