BEGIN:VCALENDAR
VERSION:2.0
PRODID:-//The Ark - ECPv6.15.20//NONSGML v1.0//EN
CALSCALE:GREGORIAN
METHOD:PUBLISH
X-WR-CALNAME:The Ark
X-ORIGINAL-URL:https://theark.org
X-WR-CALDESC:Events for The Ark
REFRESH-INTERVAL;VALUE=DURATION:PT1H
X-Robots-Tag:noindex
X-PUBLISHED-TTL:PT1H
BEGIN:VTIMEZONE
TZID:America/Detroit
BEGIN:DAYLIGHT
TZOFFSETFROM:-0500
TZOFFSETTO:-0400
TZNAME:EDT
DTSTART:20220313T070000
END:DAYLIGHT
BEGIN:STANDARD
TZOFFSETFROM:-0400
TZOFFSETTO:-0500
TZNAME:EST
DTSTART:20221106T060000
END:STANDARD
BEGIN:DAYLIGHT
TZOFFSETFROM:-0500
TZOFFSETTO:-0400
TZNAME:EDT
DTSTART:20230312T070000
END:DAYLIGHT
BEGIN:STANDARD
TZOFFSETFROM:-0400
TZOFFSETTO:-0500
TZNAME:EST
DTSTART:20231105T060000
END:STANDARD
BEGIN:DAYLIGHT
TZOFFSETFROM:-0500
TZOFFSETTO:-0400
TZNAME:EDT
DTSTART:20240310T070000
END:DAYLIGHT
BEGIN:STANDARD
TZOFFSETFROM:-0400
TZOFFSETTO:-0500
TZNAME:EST
DTSTART:20241103T060000
END:STANDARD
END:VTIMEZONE
BEGIN:VEVENT
DTSTART;TZID=America/Detroit:20231104T200000
DTEND;TZID=America/Detroit:20231104T230000
DTSTAMP:20260420T203311
CREATED:20230406T130014Z
LAST-MODIFIED:20231014T211946Z
UID:10000380-1699128000-1699138800@theark.org
SUMMARY:Judy Banker Band
DESCRIPTION:Americana and Alt-Country artist Judy Banker returns to The Ark with her all-star band for a birthday concert that also celebrates the release of her fourth studio album\, “Bona Fide.” With this newest release\, Judy’s songwriting—rife with melodic hooks and raw\, poetic lyrics set to layered\, innovative arrangements—has evolved\, crossing over and blending jazz\, R&B\, and rock to create something that feels at once familiar and wholly original. Judy and her band—David Roof\, John Sperendi\, Tony Pace\, Alan Pagliere & Brian Williams—will be performing “Bona Fide” cover to cover as well as favorite selections from Judy’s other records. \nAs a longtime Ann Arbor–based musician\, Judy has deep connections to the region. Musical partner to Michigan songwriting legend Jay Stielstra for nearly 15 years\, and music director of the fall 2022 40th-anniversary revival of Jay’s musical play “North Country Opera\,” Judy has been writing and recording her own music for the past decade\, with her debut release\, “Without You\,” nearing its ten-year anniversary. With three highly regarded studio albums under her belt and a single\, “Blessed Be the Nation”—a poem of Pete Seeger’s Judy set to her original music—Judy has established herself as a staple of the southeast Michigan music scene. \nAlong with copies of “Bona Fide” and other music merch\, Judy will have available for purchase copies of photographs she is known for capturing of the rural/natural areas surrounding Ann Arbor. A portion of photograph sales will go to support the Michigan League of Conservation Voters. Ann Arbor songwriter Annie Bacon opens. 
URL:https://theark.org/event/judy-banker-231104/
LOCATION:The Ark\, 316 S. Main\, Ann Arbor\, MI\, 48104\, United States
ATTACH;FMTTYPE=image/jpeg:https://theark.org/wp-content/uploads/2023/03/Judy-Banker-Band-color-The-Ark-scaled-1.jpeg
END:VEVENT
END:VCALENDAR