BEGIN:VCALENDAR
VERSION:2.0
PRODID:-//The Ark - ECPv6.15.20//NONSGML v1.0//EN
CALSCALE:GREGORIAN
METHOD:PUBLISH
X-ORIGINAL-URL:https://theark.org
X-WR-CALDESC:Events for The Ark
REFRESH-INTERVAL;VALUE=DURATION:PT1H
X-Robots-Tag:noindex
X-PUBLISHED-TTL:PT1H
BEGIN:VTIMEZONE
TZID:America/Detroit
BEGIN:DAYLIGHT
TZOFFSETFROM:-0500
TZOFFSETTO:-0400
TZNAME:EDT
DTSTART:20220313T070000
END:DAYLIGHT
BEGIN:STANDARD
TZOFFSETFROM:-0400
TZOFFSETTO:-0500
TZNAME:EST
DTSTART:20221106T060000
END:STANDARD
BEGIN:DAYLIGHT
TZOFFSETFROM:-0500
TZOFFSETTO:-0400
TZNAME:EDT
DTSTART:20230312T070000
END:DAYLIGHT
BEGIN:STANDARD
TZOFFSETFROM:-0400
TZOFFSETTO:-0500
TZNAME:EST
DTSTART:20231105T060000
END:STANDARD
BEGIN:DAYLIGHT
TZOFFSETFROM:-0500
TZOFFSETTO:-0400
TZNAME:EDT
DTSTART:20240310T070000
END:DAYLIGHT
BEGIN:STANDARD
TZOFFSETFROM:-0400
TZOFFSETTO:-0500
TZNAME:EST
DTSTART:20241103T060000
END:STANDARD
END:VTIMEZONE
BEGIN:VEVENT
DTSTART;TZID=America/Detroit:20231103T200000
DTEND;TZID=America/Detroit:20231103T230000
DTSTAMP:20260419T165428
CREATED:20230706T130039Z
LAST-MODIFIED:20231014T211905Z
UID:10000379-1699041600-1699052400@theark.org
SUMMARY:Tartan Terrors
DESCRIPTION:Tartan Terrors are not a band but\, in the words of the organizers\, “North America’s premiere Celtic event\, featuring the best in music\, comedy and dance.” Amazed by the blistering chops of a two-time world champion bagpiper\, the driving tones of drums from around the world\, and a guitar played unlike any you’ve ever heard\, standing-room-only audiences come to understand why Dig This magazine declares Tartan Terrors “one act to keep an eye on!” Combine all the music with championship-caliber Highland Dancers and internationally recognized comedic performers\, and this Celtic group goes beyond the ordinary. Members of Tartan Terrors have performed on four different continents; in some of the most prestigious festivals\, Highland Games\, and theaters in North America\, for a U.S. president and Britain’s Queen\, and on Good Morning America. Experience the phenomenon of Tartan Terrors and see why Celtic Beat hails them as “the heirs apparent to the mayhem”!
URL:https://theark.org/event/tartan-terrors-231103/
LOCATION:The Ark\, 316 S. Main\, Ann Arbor\, MI\, 48104\, United States
ATTACH;FMTTYPE=image/jpeg:https://theark.org/wp-content/uploads/2023/06/Tartan-Terrors-1.jpg
END:VEVENT
END:VCALENDAR