BEGIN:VCALENDAR
VERSION:2.0
PRODID:-//The Ark - ECPv6.15.20//NONSGML v1.0//EN
CALSCALE:GREGORIAN
METHOD:PUBLISH
X-ORIGINAL-URL:https://theark.org
X-WR-CALDESC:Events for The Ark
REFRESH-INTERVAL;VALUE=DURATION:PT1H
X-Robots-Tag:noindex
X-PUBLISHED-TTL:PT1H
BEGIN:VTIMEZONE
TZID:America/Detroit
BEGIN:DAYLIGHT
TZOFFSETFROM:-0500
TZOFFSETTO:-0400
TZNAME:EDT
DTSTART:20220313T070000
END:DAYLIGHT
BEGIN:STANDARD
TZOFFSETFROM:-0400
TZOFFSETTO:-0500
TZNAME:EST
DTSTART:20221106T060000
END:STANDARD
BEGIN:DAYLIGHT
TZOFFSETFROM:-0500
TZOFFSETTO:-0400
TZNAME:EDT
DTSTART:20230312T070000
END:DAYLIGHT
BEGIN:STANDARD
TZOFFSETFROM:-0400
TZOFFSETTO:-0500
TZNAME:EST
DTSTART:20231105T060000
END:STANDARD
BEGIN:DAYLIGHT
TZOFFSETFROM:-0500
TZOFFSETTO:-0400
TZNAME:EDT
DTSTART:20240310T070000
END:DAYLIGHT
BEGIN:STANDARD
TZOFFSETFROM:-0400
TZOFFSETTO:-0500
TZNAME:EST
DTSTART:20241103T060000
END:STANDARD
END:VTIMEZONE
BEGIN:VEVENT
DTSTART;TZID=America/Detroit:20231026T200000
DTEND;TZID=America/Detroit:20231026T230000
DTSTAMP:20260420T114245
CREATED:20230202T150059Z
LAST-MODIFIED:20231023T151509Z
UID:10000373-1698350400-1698361200@theark.org
SUMMARY:The Wailin' Jennys
DESCRIPTION:The Wailin’ Jennys are neither a reggae group nor an all-female Waylon Jennings tribute band. Three extraordinary voices with one singular vision: The Wailin’ Jennys continue to evolve into far more than the melodious sum of their individual talents years after blowing in on a fresh acoustic breeze from Canada’s midwestern heartland. Canadians Nicky Mehta\, and Ruth Moody and New Yorker Heather Masse were all well-established talents individually\, and their collaboration is an example of how exciting it can be when performers with distinct outlooks find ways of working together. Each member of the trio contributes distinctive original songs to the mix\, which ranges from folk-rock to Celtic to traditional song. This trio has won fans for its incredible harmonies at venues ranging from “A Prairie Home Companion” (multiple times) to the small-town parks and festivals in Manitoba that gave them their start. \nBlue LLama Jazz Club is proud to be the stage sponsor of The Wailin’ Jennys show at The Ark! Show your ticket at Blue LLama after the event on Friday (10/27) or Saturday (10/28) to get your first cocktail for just $2!
URL:https://theark.org/event/the-wailin-jennys/
LOCATION:The Ark\, 316 S. Main\, Ann Arbor\, MI\, 48104\, United States
CATEGORIES:Sold Out
ATTACH;FMTTYPE=image/jpeg:https://theark.org/wp-content/uploads/2023/01/The-Wailin-Jennys.jpg
END:VEVENT
END:VCALENDAR