BEGIN:VCALENDAR
VERSION:2.0
PRODID:-//The Ark - ECPv6.15.20//NONSGML v1.0//EN
CALSCALE:GREGORIAN
METHOD:PUBLISH
X-WR-CALNAME:The Ark
X-ORIGINAL-URL:https://theark.org
X-WR-CALDESC:Events for The Ark
REFRESH-INTERVAL;VALUE=DURATION:PT1H
X-Robots-Tag:noindex
X-PUBLISHED-TTL:PT1H
BEGIN:VTIMEZONE
TZID:America/Detroit
BEGIN:DAYLIGHT
TZOFFSETFROM:-0500
TZOFFSETTO:-0400
TZNAME:EDT
DTSTART:20220313T070000
END:DAYLIGHT
BEGIN:STANDARD
TZOFFSETFROM:-0400
TZOFFSETTO:-0500
TZNAME:EST
DTSTART:20221106T060000
END:STANDARD
BEGIN:DAYLIGHT
TZOFFSETFROM:-0500
TZOFFSETTO:-0400
TZNAME:EDT
DTSTART:20230312T070000
END:DAYLIGHT
BEGIN:STANDARD
TZOFFSETFROM:-0400
TZOFFSETTO:-0500
TZNAME:EST
DTSTART:20231105T060000
END:STANDARD
BEGIN:DAYLIGHT
TZOFFSETFROM:-0500
TZOFFSETTO:-0400
TZNAME:EDT
DTSTART:20240310T070000
END:DAYLIGHT
BEGIN:STANDARD
TZOFFSETFROM:-0400
TZOFFSETTO:-0500
TZNAME:EST
DTSTART:20241103T060000
END:STANDARD
END:VTIMEZONE
BEGIN:VEVENT
DTSTART;TZID=America/Detroit:20231024T200000
DTEND;TZID=America/Detroit:20231024T230000
DTSTAMP:20260421T122229
CREATED:20230627T131752Z
LAST-MODIFIED:20231014T205132Z
UID:10000371-1698177600-1698188400@theark.org
SUMMARY:Mr. Sun
DESCRIPTION:If you haven’t heard of the cheerfully named supergroup Mr. Sun\, you’ve certainly heard its proponents\, four of the finest musicians on the American Roots scene: Renowned fiddler Darol Anger\, Professor Emeritus at Berklee College of Music\, who has released dozens of influential solo albums over a 50-year career in addition to his work with David Grisman and Mike Marshall\, and founded the Turtle Island Quartet\, Psychograss\, and Republic of Strings; Joe K. Walsh\, mandolin virtuoso and vocalist who spent four years with the award-winning bluegrass act the Gibson Brothers before becoming a solo artist\, songwriter\, and Strings Department Professor at Berklee; all-around guitar genius Grant Gordy\, a former member of David Grisman’s band and respected solo artist and educator; and the phenomenal Scots bassist Aidan O’Donnell\, who has backed harpist Maeve Gilchrist and countless modern jazz heroes. Their appearances in the last few years at Wintergrass\, Rockygrass\, Grey Fox\, Freshgrass\, Redwing Roots\, and at IBMA conventions have created a reverberant clang throughout the Acoustic Americana music world. \nThis program is made possible with support from the Ford Motor Company Fund. It is presented live\, and also livestreamed on The Ark’s Facebook page. \nThis is a FREE show. Nonperishables accepted for Food Gatherers.
URL:https://theark.org/event/mr-sun-231024/
LOCATION:The Ark\, 316 S. Main\, Ann Arbor\, MI\, 48104\, United States
CATEGORIES:Artist Spotlight Series,Live and Virtual
ATTACH;FMTTYPE=image/jpeg:https://theark.org/wp-content/uploads/2023/06/Mr-Sun-1.jpg
END:VEVENT
END:VCALENDAR