BEGIN:VCALENDAR
VERSION:2.0
PRODID:-//The Ark - ECPv6.15.20//NONSGML v1.0//EN
CALSCALE:GREGORIAN
METHOD:PUBLISH
X-ORIGINAL-URL:https://theark.org
X-WR-CALDESC:Events for The Ark
REFRESH-INTERVAL;VALUE=DURATION:PT1H
X-Robots-Tag:noindex
X-PUBLISHED-TTL:PT1H
BEGIN:VTIMEZONE
TZID:America/Detroit
BEGIN:DAYLIGHT
TZOFFSETFROM:-0500
TZOFFSETTO:-0400
TZNAME:EDT
DTSTART:20220313T070000
END:DAYLIGHT
BEGIN:STANDARD
TZOFFSETFROM:-0400
TZOFFSETTO:-0500
TZNAME:EST
DTSTART:20221106T060000
END:STANDARD
BEGIN:DAYLIGHT
TZOFFSETFROM:-0500
TZOFFSETTO:-0400
TZNAME:EDT
DTSTART:20230312T070000
END:DAYLIGHT
BEGIN:STANDARD
TZOFFSETFROM:-0400
TZOFFSETTO:-0500
TZNAME:EST
DTSTART:20231105T060000
END:STANDARD
BEGIN:DAYLIGHT
TZOFFSETFROM:-0500
TZOFFSETTO:-0400
TZNAME:EDT
DTSTART:20240310T070000
END:DAYLIGHT
BEGIN:STANDARD
TZOFFSETFROM:-0400
TZOFFSETTO:-0500
TZNAME:EST
DTSTART:20241103T060000
END:STANDARD
END:VTIMEZONE
BEGIN:VEVENT
DTSTART;TZID=America/Detroit:20231021T200000
DTEND;TZID=America/Detroit:20231021T230000
DTSTAMP:20260421T052212
CREATED:20230515T130001Z
LAST-MODIFIED:20231018T134143Z
UID:10000368-1697918400-1697929200@theark.org
SUMMARY:Carbon Leaf
DESCRIPTION:Blending rock\, folk\, Celtic\, bluegrass and Americana traditions into a high-energy style the group calls ether-electrified porch music\, this Virginia quintet’s poetic songs are brought to life with acoustic & electric guitars\, mandolin\, fiddle\, bass\, drums\, cello\, banjo\, penny whistle\, pedal steel\, accordion and rich vocal harmony. Carbon Leaf writes\, records and produces its music independently from their studio in Richmond\, VA\, and has performed over 2\,400 live shows across 17 albums in their long career. The group’s independent music and spirit continue to resonate with its fans.
URL:https://theark.org/event/carbon-leaf-231021/
LOCATION:The Ark\, 316 S. Main\, Ann Arbor\, MI\, 48104\, United States
CATEGORIES:Low Ticket Alert
ATTACH;FMTTYPE=image/jpeg:https://theark.org/wp-content/uploads/2022/05/Carbon-Leaf-Promo-Photo-A011-by-Brittany-Diliberto.jpg
END:VEVENT
END:VCALENDAR