BEGIN:VCALENDAR
VERSION:2.0
PRODID:-//The Ark - ECPv6.15.20//NONSGML v1.0//EN
CALSCALE:GREGORIAN
METHOD:PUBLISH
X-ORIGINAL-URL:https://theark.org
X-WR-CALDESC:Events for The Ark
REFRESH-INTERVAL;VALUE=DURATION:PT1H
X-Robots-Tag:noindex
X-PUBLISHED-TTL:PT1H
BEGIN:VTIMEZONE
TZID:America/Detroit
BEGIN:DAYLIGHT
TZOFFSETFROM:-0500
TZOFFSETTO:-0400
TZNAME:EDT
DTSTART:20220313T070000
END:DAYLIGHT
BEGIN:STANDARD
TZOFFSETFROM:-0400
TZOFFSETTO:-0500
TZNAME:EST
DTSTART:20221106T060000
END:STANDARD
BEGIN:DAYLIGHT
TZOFFSETFROM:-0500
TZOFFSETTO:-0400
TZNAME:EDT
DTSTART:20230312T070000
END:DAYLIGHT
BEGIN:STANDARD
TZOFFSETFROM:-0400
TZOFFSETTO:-0500
TZNAME:EST
DTSTART:20231105T060000
END:STANDARD
BEGIN:DAYLIGHT
TZOFFSETFROM:-0500
TZOFFSETTO:-0400
TZNAME:EDT
DTSTART:20240310T070000
END:DAYLIGHT
BEGIN:STANDARD
TZOFFSETFROM:-0400
TZOFFSETTO:-0500
TZNAME:EST
DTSTART:20241103T060000
END:STANDARD
END:VTIMEZONE
BEGIN:VEVENT
DTSTART;TZID=America/Detroit:20231019T200000
DTEND;TZID=America/Detroit:20231019T230000
DTSTAMP:20260420T174024
CREATED:20230803T130019Z
LAST-MODIFIED:20231014T204153Z
UID:10000366-1697745600-1697756400@theark.org
SUMMARY:Lindsay Lou
DESCRIPTION:“I saw a literal manifestation of the sacred feminine\, and had this profound sense that I was meant to embody it\,” recalls singer-songwriter Lindsay Lou after journeying through a hallucinogenic ritual that would inform the way she processed waves of grief in the sea of change ahead of her. The loss of her grandmother\, the end of her marriage\, and the overwhelming turmoil of COVID lockdowns found the Nashville-based artist on a spiritual journey of self-knowledge and healing with this gift from the mystic swirl. On her brand-new album\, “Queen of Time\,” Lou explores that quest across ten tracks of tender\, heartbreakingly beautiful music. Produced by Dave O’Donnell (James Taylor\, Sheryl Crow\, Heart) ) and featuring a gamut of guests including GRAMMY-winners Billy Strings and Jerry Douglas\, Queen of Time celebrates love and loss\, and captures a new arc of haloed beauty.
URL:https://theark.org/event/lindsay-lou-231019/
LOCATION:The Ark\, 316 S. Main\, Ann Arbor\, MI\, 48104\, United States
ATTACH;FMTTYPE=image/jpeg:https://theark.org/wp-content/uploads/2023/08/Lindsay-Lou-Promo-4-by-Dana-Kalachnik-1.jpg
END:VEVENT
END:VCALENDAR