BEGIN:VCALENDAR
VERSION:2.0
PRODID:-//The Ark - ECPv6.15.20//NONSGML v1.0//EN
CALSCALE:GREGORIAN
METHOD:PUBLISH
X-WR-CALNAME:The Ark
X-ORIGINAL-URL:https://theark.org
X-WR-CALDESC:Events for The Ark
REFRESH-INTERVAL;VALUE=DURATION:PT1H
X-Robots-Tag:noindex
X-PUBLISHED-TTL:PT1H
BEGIN:VTIMEZONE
TZID:America/Detroit
BEGIN:DAYLIGHT
TZOFFSETFROM:-0500
TZOFFSETTO:-0400
TZNAME:EDT
DTSTART:20220313T070000
END:DAYLIGHT
BEGIN:STANDARD
TZOFFSETFROM:-0400
TZOFFSETTO:-0500
TZNAME:EST
DTSTART:20221106T060000
END:STANDARD
BEGIN:DAYLIGHT
TZOFFSETFROM:-0500
TZOFFSETTO:-0400
TZNAME:EDT
DTSTART:20230312T070000
END:DAYLIGHT
BEGIN:STANDARD
TZOFFSETFROM:-0400
TZOFFSETTO:-0500
TZNAME:EST
DTSTART:20231105T060000
END:STANDARD
BEGIN:DAYLIGHT
TZOFFSETFROM:-0500
TZOFFSETTO:-0400
TZNAME:EDT
DTSTART:20240310T070000
END:DAYLIGHT
BEGIN:STANDARD
TZOFFSETFROM:-0400
TZOFFSETTO:-0500
TZNAME:EST
DTSTART:20241103T060000
END:STANDARD
END:VTIMEZONE
BEGIN:VEVENT
DTSTART;TZID=America/Detroit:20231016T200000
DTEND;TZID=America/Detroit:20231016T230000
DTSTAMP:20260423T092000
CREATED:20231014T133020Z
LAST-MODIFIED:20231016T151806Z
UID:10000315-1697486400-1697497200@theark.org
SUMMARY:Joni Mitchell 80th Birthday Celebration
DESCRIPTION:With Billy King\, Emily Slomovits\, San Slomovits\, and Jen Sygit!  \nA quartet of mainstays of the Michigan music scene join together to perform Joni Mitchell songs in honor of her 80th birthday. Come sing along with your favorites and hear newly reimagined arrangements of familiar\, iconic Joni songs\, and less well-known gems from her nearly 60-year career. The songs of Joni Mitchell have been resounding for several generations now\, and we’re bringing together a multi-generational group for a celebration that is not to be missed!
URL:https://theark.org/event/joni-mitchell-80th-birthday-celebration/
LOCATION:The Ark\, 316 S. Main\, Ann Arbor\, MI\, 48104\, United States
ATTACH;FMTTYPE=image/png:https://theark.org/wp-content/uploads/2023/10/joni-photos-final.png
END:VEVENT
END:VCALENDAR